BEGIN:VCALENDAR
VERSION:2.0
PRODID:-//ChamberMaster//Event Calendar 2.0//EN
METHOD:PUBLISH
X-PUBLISHED-TTL:P3D
REFRESH-INTERVAL:P3D
CALSCALE:GREGORIAN
BEGIN:VEVENT
DTSTART:20161028T230000Z
DTEND:20161029T010000Z
X-MICROSOFT-CDO-ALLDAYEVENT:FALSE
SUMMARY:Fourth Friday Happy Hour
DESCRIPTION:Cheers to you!\n\n\n\nYou've successfully made it through the work week\, now wind down with a casual (yet productive) afternoon of Happy Hour Networking with the North Orange County Chamber on the last Friday of the month!\n\n\n\nThis week we meet at Summit House Restaurant in Fullerton. \n\n\n\nBring business cards\, and connect with fellow business professionals from around the region.
X-ALT-DESC;FMTTYPE=text/html:<em><span style="border:1pt none windowtext\;padding:0in\;background-image:initial\;background-position:initial\;background-size:initial\;background-repeat:initial\;background-attachment:initial\;background-origin:initial\;background-clip:initial\;"><span style="color:green\;"><span style="font-family:calibri\,sans-serif\;"><span style="font-size:19.5pt\;">Cheers to&nbsp\;you!</span></span></span></span></em><br style="bottom:auto\;box-sizing:content-box\;content:normal\;empty-cells:show\;font-variant-numeric:inherit\;font-stretch:inherit\;line-height:inherit\;max-height:none\;max-width:none\;min-height:initial\;min-width:initial\;opacity:1\;outline-offset:0px\;resize:none\;text-overflow:clip\;word-break:inherit\;word-wrap:inherit\;border-radius:0px\;float:none\;overflow:visible\;right:auto\;visibility:inherit\;z-index:auto\;" />\n<br style="bottom:auto\;box-sizing:content-box\;content:normal\;empty-cells:show\;font-variant-numeric:inherit\;font-stretch:inherit\;max-height:none\;max-width:none\;min-height:initial\;min-width:initial\;opacity:1\;outline-offset:0px\;resize:none\;text-overflow:clip\;word-break:inherit\;word-wrap:inherit\;border-radius:0px\;float:none\;overflow:visible\;right:auto\;visibility:inherit\;z-index:auto\;" />\n<span style="font-variant-numeric:inherit\;font-stretch:inherit\;bottom:auto\;box-sizing:content-box\;content:normal\;empty-cells:show\;max-height:none\;max-width:none\;min-height:initial\;min-width:initial\;opacity:1\;outline-offset:0px\;resize:none\;text-overflow:clip\;word-break:inherit\;word-wrap:inherit\;border-radius:0px\;box-shadow:none\;overflow:visible\;right:auto\;visibility:inherit\;z-index:auto\;">You&#39\;ve successfully made it through the work week\, now wind down with a casual&nbsp\;(yet productive)&nbsp\;afternoon of Happy Hour Networking with the North Orange County Chamber on the last Friday of the month!<br />\n<br />\nThis week we meet at&nbsp\;<a href="http://summithouse.com/">Summit House Restaurant</a> in Fullerton.&nbsp\;<br />\n<br />\nBring business cards\, and connect with fellow business professionals from around the region.</span>
LOCATION:Summit House 2000 E Bastanchury Rd. Fullerton\, CA 92835
UID:e.887.15475
SEQUENCE:3
DTSTAMP:20260422T062459Z
URL:https://nocchamber-gzcms.preview.gochambermaster.com/events/details/fourth-friday-happy-hour-15475
END:VEVENT

END:VCALENDAR
