BEGIN:VCALENDAR
VERSION:2.0
PRODID:-//ChamberMaster//Event Calendar 2.0//EN
METHOD:PUBLISH
X-PUBLISHED-TTL:P3D
REFRESH-INTERVAL:P3D
CALSCALE:GREGORIAN
BEGIN:VEVENT
DTSTART:20160826T230000Z
DTEND:20160827T010000Z
X-MICROSOFT-CDO-ALLDAYEVENT:FALSE
SUMMARY:Fourth Friday Happy Hour
DESCRIPTION:Join us for a great time of networking with professionals over a cold beverage at Buena Parks Rock & Brews Restaurant.\n\n\n\nBring plenty of business cards and a healthy appetite!
X-ALT-DESC;FMTTYPE=text/html:Join us for a great time of networking with professionals over a cold beverage at Buena Parks Rock &amp\; Brews Restaurant.<br />\n<br />\nBring plenty of business cards and a healthy appetite!
LOCATION:Rock & Brews Restaurant 7777 Beach Blvd Buena Park\, CA 90620
UID:e.887.14769
SEQUENCE:3
DTSTAMP:20260422T115624Z
URL:https://nocchamber-gzcms.preview.gochambermaster.com/events/details/fourth-friday-happy-hour-14769
END:VEVENT

END:VCALENDAR
