BEGIN:VCALENDAR
VERSION:2.0
PRODID:-//ChamberMaster//Event Calendar 2.0//EN
METHOD:PUBLISH
X-PUBLISHED-TTL:P3D
REFRESH-INTERVAL:P3D
CALSCALE:GREGORIAN
BEGIN:VEVENT
DTSTART:20180516T000000Z
DTEND:20180516T030000Z
X-MICROSOFT-CDO-ALLDAYEVENT:FALSE
SUMMARY:Floor & Decor Pro Premier - Free Industry Networking Event
DESCRIPTION:You're invited to our Free Industry Networking Event!\n\n\n\nWelcoming out values Builders\, contractors\, Architects\, Designers\, Installers\, and Realtors! Network with other professionals in the industry\, win great prizes and learn about Floor & Decor's products and services!\n\n\n\nEvent begins at 5:00 p.m. \n\nDinner at 6:00 p.m.\n\nRaffle to Follow!\n\n\n\nEnter for your chance to win great prizes! \n\nFlat Screen TV\, Tablets\, Tools\, Gift Cards\, and so much more!\n\n\n\nSee store for official contest rules. No purchase necessary. \n\n\n\nRSVP Today by Phone/text to 7140 369-4508 \n\nOr email 155ProServices@flooranddecor.com
X-ALT-DESC;FMTTYPE=text/html:You&#39\;re invited to our Free Industry Networking Event!<br />\n<br />\nWelcoming out values Builders\, contractors\, Architects\, Designers\, Installers\, and Realtors! Network with other professionals in the industry\, win great prizes and learn about Floor &amp\; Decor&#39\;s products and services!<br />\n<br />\nEvent begins at 5:00 p.m.&nbsp\;<br />\nDinner at 6:00 p.m.<br />\nRaffle to Follow!<br />\n<br />\nEnter for your chance to win great prizes!&nbsp\;<br />\nFlat Screen TV\, Tablets\, Tools\, Gift Cards\, and so much more!<br />\n<br />\nSee store for official contest rules. No purchase necessary.&nbsp\;<br />\n<br />\nRSVP Today by Phone/text to 7140 369-4508&nbsp\;<br />\nOr email 155ProServices@flooranddecor.com
LOCATION:Floor & Decor 202 East Imperial hwy. Fullerton\, CA 92835
UID:e.887.21340
SEQUENCE:3
DTSTAMP:20260422T044939Z
URL:https://nocchamber-gzcms.preview.gochambermaster.com/events/details/floor-decor-pro-premier-free-industry-networking-event-21340
END:VEVENT

END:VCALENDAR
