BEGIN:VCALENDAR
VERSION:2.0
PRODID:-//ChamberMaster//Event Calendar 2.0//EN
METHOD:PUBLISH
X-PUBLISHED-TTL:P3D
REFRESH-INTERVAL:P3D
CALSCALE:GREGORIAN
BEGIN:VEVENT
DTSTART:20171020T010000Z
DTEND:20171020T020000Z
X-MICROSOFT-CDO-ALLDAYEVENT:FALSE
SUMMARY:Farmers & Merchants Bank's Online Webinar "Roadmap to Homeownership"
DESCRIPTION:Online Webinar  on how to purchase real estate in the current market.  Covers:\n\n	Calculating how much you can afford\n	Getting pre-qualified\n	Mortgage basics\n	Obtaining a mortgage and comparing financing options\n	Loan decision phase and preparing for closing
X-ALT-DESC;FMTTYPE=text/html:Online Webinar&nbsp\; on how to purchase real estate in the current market.&nbsp\; Covers:\n<ul>\n	<li>Calculating how much you can afford</li>\n	<li>Getting pre-qualified</li>\n	<li>Mortgage basics</li>\n	<li>Obtaining a mortgage and comparing financing options</li>\n	<li>Loan decision phase and preparing for closing</li>\n</ul>\n
LOCATION:Online Webinar. Registration required.
UID:e.887.17401
SEQUENCE:3
DTSTAMP:20260420T214649Z
URL:https://nocchamber-gzcms.preview.gochambermaster.com/events/details/farmers-merchants-bank-s-online-webinar-roadmap-to-homeownership-17401
END:VEVENT

END:VCALENDAR
