BEGIN:VCALENDAR
VERSION:2.0
PRODID:-//ChamberMaster//Event Calendar 2.0//EN
METHOD:PUBLISH
X-PUBLISHED-TTL:P3D
REFRESH-INTERVAL:P3D
CALSCALE:GREGORIAN
BEGIN:VEVENT
DTSTART:20160611T040000Z
DTEND:20160611T053000Z
X-MICROSOFT-CDO-ALLDAYEVENT:FALSE
SUMMARY:Election Wrap-Up and NOCLA Meeting
DESCRIPTION:Barbara Stone will be the special presenter at the June 10 meeting of NOCLA meeting.  Stone is expected to bring with her a wealth of information about local\, state and national politics.  Since this meeting follows the June 7\, primary\, you can be assured she will be prepared with witty commentary that will inform and entertain.\n\nThe program will also include updates on legislation from Sacramento to Washington\, D.C.
X-ALT-DESC;FMTTYPE=text/html:<span style="font-size:12px\;"><span style="font-family:arial\;">Barbara Stone will be the special presenter at the June 10 meeting of NOCLA&nbsp\;meeting.&nbsp\; <span style="background-image:initial\;background-attachment:initial\;background-size:initial\;background-origin:initial\;background-clip:initial\;background-position:initial\;background-repeat:initial\;">Stone is expected to bring with her a wealth of information about local\, state and national politics.&nbsp\; Since this meeting follows the June 7\, primary\, you can be assured she will be prepared with witty commentary that will inform and entertain.<br />\nThe program will also include updates on legislation from Sacramento to Washington\, D.C.</span></span></span>
LOCATION:1 Civic Center Drive\, Brea\, Second Floor\, Brea\, CA
UID:e.887.14466
SEQUENCE:3
DTSTAMP:20260423T121721Z
URL:https://nocchamber-gzcms.preview.gochambermaster.com/events/details/election-wrap-up-and-nocla-meeting-14466
END:VEVENT

END:VCALENDAR
