BEGIN:VCALENDAR
VERSION:2.0
PRODID:-//ChamberMaster//Event Calendar 2.0//EN
METHOD:PUBLISH
X-PUBLISHED-TTL:P3D
REFRESH-INTERVAL:P3D
CALSCALE:GREGORIAN
BEGIN:VEVENT
DTSTART:20140626T143000Z
DTEND:20140626T163000Z
X-MICROSOFT-CDO-ALLDAYEVENT:FALSE
SUMMARY:Education Summit -- Training Tomorrow's Workforce
DESCRIPTION:Fullerton Chamber of Commerce has assembled a panel of local educators to join in conversation focused on trends in education affecting employers today and in the future. The Education Summit will take place on Thursday\, June 26 at 7:30 a.m. at the Fullerton Marriott located at 2701 E. Nutwood Ave. on the campus of Cal State Fullerton.\n\n\n\nClaire C. Cavallaro\, dean College of Education at CSU Fullerton\; Rajen Vurdien\, president of Fullerton College\; George Giokaris\, superintendent of Fullerton Joint Union High School District\; and Robert Pletka\, superintendent of Fullerton School District will discuss trends in education in Fullerton and the state\, which has implications for every employer. The panel will be moderated by Sarah Hill\, assistant professor of political science at CSU Fullerton.
X-ALT-DESC;FMTTYPE=text/html:Fullerton Chamber of Commerce has assembled a panel of local educators to join in conversation focused on trends in education affecting employers today and in the future. The Education Summit will take place on Thursday\, June 26 at 7:30 a.m. at the Fullerton Marriott located at 2701 E. Nutwood Ave. on the campus of Cal State Fullerton.<br />\n<br />\nClaire C. Cavallaro\, dean College of Education at CSU Fullerton\; Rajen Vurdien\, president of Fullerton College\; George Giokaris\, superintendent of Fullerton Joint Union High School District\; and Robert Pletka\, superintendent of Fullerton School District will discuss trends in education in Fullerton and the state\, which has implications for every employer. The panel will be moderated by Sarah Hill\, assistant professor of political science at CSU Fullerton.
LOCATION:Fullerton Marriott 2701 E. Nutwood Avenue\, Fullerton http://www.Marriott.com/laxfl
UID:e.887.8828
SEQUENCE:3
DTSTAMP:20260425T145959Z
URL:https://nocchamber-gzcms.preview.gochambermaster.com/events/details/education-summit-training-tomorrow-s-workforce-8828
END:VEVENT

END:VCALENDAR
