BEGIN:VCALENDAR
VERSION:2.0
PRODID:-//ChamberMaster//Event Calendar 2.0//EN
METHOD:PUBLISH
X-PUBLISHED-TTL:P3D
REFRESH-INTERVAL:P3D
CALSCALE:GREGORIAN
BEGIN:VEVENT
DTSTART:20140621T170000Z
DTEND:20140621T180000Z
X-MICROSOFT-CDO-ALLDAYEVENT:FALSE
SUMMARY:EARN YOUR MASTER OF ARTS IN
DESCRIPTION:INFO SESSION JUNE 21ST\, 10AM\, AT THE COSTA MESA CAMPUS Come to our Costa Mesa campus to learn more about our Masters of Arts in Counseling Psychology by talking with our lead faculty Dr. Caroline Paltin. Dr. Paltin will be there to speak about the program and answer questions of all those interested in applying to this program. The program is guided by the standards of the California Board of Behavioral Sciences for academic training relevant to licensing as a Marriage and Family Therapist (MFT) or licensed professional clinical counselor (LPCCC) in the State of California\, and by contemporary scientific\, professional\, and public practice.
X-ALT-DESC;FMTTYPE=text/html:INFO SESSION JUNE 21ST\, 10AM\, AT THE COSTA MESA CAMPUS Come to our Costa Mesa campus to learn more about our Masters of Arts in Counseling Psychology by talking with our lead faculty Dr. Caroline Paltin. Dr. Paltin will be there to speak about the program and answer questions of all those interested in applying to this program. The program is guided by the standards of the California Board of Behavioral Sciences for academic training relevant to licensing as a Marriage and Family Therapist (MFT) or licensed professional clinical counselor (LPCCC) in the State of California\, and by contemporary scientific\, professional\, and public practice.
LOCATION:COSTA MESA CAMPUS 3390 Harbor Boulevard Costa Mesa\, CA 92626
UID:e.887.8853
SEQUENCE:3
DTSTAMP:20260425T150225Z
URL:https://nocchamber-gzcms.preview.gochambermaster.com/events/details/earn-your-master-of-arts-in-8853
END:VEVENT

END:VCALENDAR
