BEGIN:VCALENDAR
VERSION:2.0
PRODID:-//ChamberMaster//Event Calendar 2.0//EN
METHOD:PUBLISH
X-PUBLISHED-TTL:P3D
REFRESH-INTERVAL:P3D
CALSCALE:GREGORIAN
BEGIN:VEVENT
DTSTART:20161115T180000Z
DTEND:20161116T000000Z
X-MICROSOFT-CDO-ALLDAYEVENT:FALSE
SUMMARY:Downtown Fullerton Business Owner Meeting
DESCRIPTION:Conversation About Downtown Fullerton Designed for Business Owners\n\nAddressing Today's Challenges -- Planning for Tomorrow's Opportunities\n\nDiscussion to provide input on things that are working or not in Downtown Fullerton. Identify concerns. Share Success. Provide suggestions
X-ALT-DESC;FMTTYPE=text/html:Conversation About Downtown Fullerton Designed for Business Owners<br />\nAddressing Today&#39\;s Challenges -- Planning for Tomorrow&#39\;s Opportunities<br />\nDiscussion&nbsp\;to provide input on things that are working or not in Downtown Fullerton.&nbsp\;Identify&nbsp\;concerns. Share Success. Provide suggestions
LOCATION:Fullerton Community Center 340 W. Commonwealth Avenue Fullerton\, CA 92832
UID:e.887.15517
SEQUENCE:3
DTSTAMP:20260422T012118Z
URL:https://nocchamber-gzcms.preview.gochambermaster.com/events/details/downtown-fullerton-business-owner-meeting-15517
END:VEVENT

END:VCALENDAR
