BEGIN:VCALENDAR
VERSION:2.0
PRODID:-//ChamberMaster//Event Calendar 2.0//EN
METHOD:PUBLISH
X-PUBLISHED-TTL:P3D
REFRESH-INTERVAL:P3D
CALSCALE:GREGORIAN
BEGIN:VEVENT
DTSTART:20170905T210000Z
DTEND:20170905T220000Z
X-MICROSOFT-CDO-ALLDAYEVENT:FALSE
SUMMARY:Del Taco - Ribbon Cutting
DESCRIPTION:Join us for a ribbon cutting ceremony to celebrate the grand opening of Del Taco in the city of Stanton on Tuesday\, September 5 at 2:00 p.m.
X-ALT-DESC;FMTTYPE=text/html:Join us for a ribbon cutting ceremony to celebrate the grand opening of&nbsp\;<a href="https://www.deltaco.com/home" target="_blank">Del Taco </a>in&nbsp\;the city of Stanton on&nbsp\;Tuesday\,&nbsp\;September&nbsp\;5&nbsp\;at 2:00 p.m.
LOCATION:Del Taco 10511 Beach Blvd. Stanton\, CA 90680
UID:e.887.17314
SEQUENCE:3
DTSTAMP:20260420T200104Z
URL:https://nocchamber-gzcms.preview.gochambermaster.com/events/details/del-taco-ribbon-cutting-17314
END:VEVENT

END:VCALENDAR
