BEGIN:VCALENDAR
VERSION:2.0
PRODID:-//ChamberMaster//Event Calendar 2.0//EN
METHOD:PUBLISH
X-PUBLISHED-TTL:P3D
REFRESH-INTERVAL:P3D
CALSCALE:GREGORIAN
BEGIN:VEVENT
DTSTART:20150213T013000Z
DTEND:20150213T033000Z
X-MICROSOFT-CDO-ALLDAYEVENT:FALSE
SUMMARY:Custom Comfort Pajama Party Networking Extravaganza
DESCRIPTION:Please join Custom Comfort Mattress for a great networking event coming up. If you want to wear pajamas and participate in their contest for the best pajamas worn please do\, but it is not required to enjoy the evening.  Food and festive drinks will be provided by Catering On Time. Come on out and enjoy a fun evening in a relaxing environment!
X-ALT-DESC;FMTTYPE=text/html:<span style="font-size: 10pt\;">Please join Custom Comfort Mattress&nbsp\;for a great networking event coming up. If you want to wear pajamas and participate in their contest for the best pajamas worn please do\, but it is not required to enjoy the evening.&nbsp\;&nbsp\;Food and festive drinks&nbsp\;will be provided by Catering On Time. Come on out and enjoy a fun evening in a relaxing environment!</span><br clear="all" />\n&nbsp\;
LOCATION:Custom Comfort Mattress 443 S. Associated Rd. Brea
UID:e.887.10350
SEQUENCE:3
DTSTAMP:20260425T013931Z
URL:https://nocchamber-gzcms.preview.gochambermaster.com/events/details/custom-comfort-pajama-party-networking-extravaganza-10350
END:VEVENT

END:VCALENDAR
