BEGIN:VCALENDAR
VERSION:2.0
PRODID:-//ChamberMaster//Event Calendar 2.0//EN
METHOD:PUBLISH
X-PUBLISHED-TTL:P3D
REFRESH-INTERVAL:P3D
CALSCALE:GREGORIAN
BEGIN:VEVENT
DTSTART:20150421T230000Z
DTEND:20150422T010000Z
X-MICROSOFT-CDO-ALLDAYEVENT:FALSE
SUMMARY:Custom Comfort Mattress Whittier\, Brea & La Habra Ribbon Cutting
DESCRIPTION:Whittier\, Brea & La Habra Ribbon cutting at Custom Comfort Mattress. There will be appetizers and refreshments provided. It's a great time to mingle and meet other Chamber members.
X-ALT-DESC;FMTTYPE=text/html:Whittier\, Brea &amp\; La Habra Ribbon cutting at Custom Comfort Mattress. There will be appetizers and refreshments provided. It&#39\;s a great time to mingle and meet other Chamber members.
LOCATION:443 S. Associated Rd. Brea\, CA 92821
UID:e.887.10644
SEQUENCE:3
DTSTAMP:20260424T225454Z
URL:https://nocchamber-gzcms.preview.gochambermaster.com/events/details/custom-comfort-mattress-whittier-brea-la-habra-ribbon-cutting-10644
END:VEVENT

END:VCALENDAR
