BEGIN:VCALENDAR
VERSION:2.0
PRODID:-//ChamberMaster//Event Calendar 2.0//EN
METHOD:PUBLISH
X-PUBLISHED-TTL:P3D
REFRESH-INTERVAL:P3D
CALSCALE:GREGORIAN
BEGIN:VEVENT
DTSTART:20160918T000000Z
DTEND:20160918T050000Z
X-MICROSOFT-CDO-ALLDAYEVENT:FALSE
SUMMARY:CSUF Concert Under the Stars: America's Bandstand
DESCRIPTION:Join Cal State Fullerton for another exciting concert under the stars. Embark on a musical journey as you travel across America's sound-scape and become inspired by the wonderfully diverse music found in this great land of ours. Your heart will soar and your spirits will fly as you see and hear it all performed live on our great America's Bandstand stage.\n\n\n\nFrom big band and jazz\, to country and gospel\, to rock\, funk\, pop and the blues\, enjoy an evening of fireworks and dazzling musical entertainment performed by students from the University's award-winning College of the Arts. As Cal State Fullerton's signature fundraising event\, your support of Concert Under the Stars funds important scholarships and student programs\, providing limitless opportunities for academic enrichment and student success.
X-ALT-DESC;FMTTYPE=text/html:Join Cal State Fullerton for another exciting concert under the stars. Embark on a musical journey as you travel across America&#39\;s sound-scape and become inspired by the wonderfully diverse music found in this great land of ours. Your heart will soar and your spirits will fly as you see and hear it all performed live on our great America&#39\;s Bandstand stage.<br />\n<br />\nFrom big band and jazz\, to country and gospel\, to rock\, funk\, pop and the blues\, enjoy an evening of fireworks and dazzling musical entertainment performed by students from the University&#39\;s award-winning College of the Arts. As Cal State Fullerton&#39\;s signature fundraising event\, your support of Concert Under the Stars funds important scholarships and student programs\, providing limitless opportunities for academic enrichment and student success.&nbsp\;
LOCATION:Cal State Fullerton Intramural Field (north of Titan Gym)
UID:e.887.14642
SEQUENCE:3
DTSTAMP:20260422T121103Z
URL:https://nocchamber-gzcms.preview.gochambermaster.com/events/details/csuf-concert-under-the-stars-america-s-bandstand-14642
END:VEVENT

END:VCALENDAR
