BEGIN:VCALENDAR
VERSION:2.0
PRODID:-//ChamberMaster//Event Calendar 2.0//EN
METHOD:PUBLISH
X-PUBLISHED-TTL:P3D
REFRESH-INTERVAL:P3D
CALSCALE:GREGORIAN
BEGIN:VEVENT
DTSTART:20180322T150000Z
DTEND:20180323T233000Z
X-MICROSOFT-CDO-ALLDAYEVENT:FALSE
SUMMARY:CSUF 2018 Leadership Academy | Center for Leaderhip
DESCRIPTION:This Leadership Academy is an immersive two-day learning experience that offers the best of personal and professional development\, leadership exposure\, and insight from guest speakers designed to help you discover the framework and tools to understand your own personal leadership style and make a significant impact on those you work with. Our leadership program benefits emerging\, high potential leaders\, and middle managers who want to enhance key leadership skills. This course will start with a 360-degree assessment\, using feedback from coworkers\, to help you gain an understanding of how you are perceived as a leader\, plan your professional development\, and leave with an action plan for success. To allow for this in-depth assessment registration for this program will close on March 2nd\, 2018.\n\n \n\nWhat You Will Learn:\n\n	Your own personal leadership style through a 360-degree assessment and feedback\n	Ways to be a more compelling leader by developing strong interpersonal skills\n	How to build superior relationships with employees and colleagues\n	How to transfer full range and transformational leadership skills to your work environment\n	Leadership development values and capabilities to help inspire others\n\n \n\n \n\nNote: All proceeds benefit services provided to students through the Center for Leadership.
X-ALT-DESC;FMTTYPE=text/html:This Leadership Academy is an immersive two-day learning experience that offers the best of personal and professional development\, leadership exposure\, and insight from guest speakers designed to help you discover the framework and tools to understand your own personal leadership style and make a significant impact on those you work with. Our leadership program benefits emerging\, high potential leaders\, and middle managers who want to enhance key leadership skills. This course will start with a 360-degree assessment\, using feedback from coworkers\, to help you gain an understanding of how you are perceived as a leader\, plan your professional development\, and leave with an action plan for success. To allow for this in-depth assessment registration for this program will close on March 2nd\, 2018.<br />\n&nbsp\;<br />\nWhat You Will Learn:\n<ul>\n	<li>Your own personal leadership style through a 360-degree assessment and feedback</li>\n	<li>Ways to be a more compelling leader by developing strong interpersonal skills</li>\n	<li>How to build superior relationships with employees and colleagues</li>\n	<li>How to transfer full range and transformational leadership skills to your work&nbsp\;environment</li>\n	<li>Leadership development values and capabilities to help inspire others</li>\n</ul>\n&nbsp\;<br />\n&nbsp\;<br />\nNote: All proceeds benefit services provided to students through the Center for Leadership.
LOCATION:Cal State Fullerton Irvine Campus 1 Banting Irvine\, CA 92618
UID:e.887.17748
SEQUENCE:3
DTSTAMP:20260421T235546Z
URL:https://nocchamber-gzcms.preview.gochambermaster.com/events/details/csuf-2018-leadership-academy-center-for-leaderhip-17748
END:VEVENT

END:VCALENDAR
