BEGIN:VCALENDAR
VERSION:2.0
PRODID:-//ChamberMaster//Event Calendar 2.0//EN
METHOD:PUBLISH
X-PUBLISHED-TTL:P3D
REFRESH-INTERVAL:P3D
CALSCALE:GREGORIAN
BEGIN:VEVENT
DTSTART:20171028T013000Z
DTEND:20171028T043000Z
X-MICROSOFT-CDO-ALLDAYEVENT:FALSE
SUMMARY:CSUF 2017 Titan Athletics Hall of Fame Dinner
DESCRIPTION:Please join the CSUF Titan Athletics Department for an evening celebrating the many accomplishments of the 2017 Titan Athletics Hall of Fame Class.\n\n\n\n2017 Hall of Fame Class::\n\n	Tiffany Boyd (Softball\, 1991-93)\n	Mel Franks (Sports Information Director\, 1980-2012)\n	George Horton (Baseball: Player\, 1975-76\; Associate Head Coach\, 1991-96\; Head Coach\, 1997-07)\n	Kurt Suzuki (Baseball\, 2002-04)\n	Kathy Van Wyk (Softball\, 1982)\n\nAll proceeds from this event directly benefit the Titan Athletics programs.
X-ALT-DESC;FMTTYPE=text/html:Please join&nbsp\;the CSUF Titan Athletics Department&nbsp\;for an evening celebrating the many accomplishments of the 2017 Titan Athletics Hall of Fame Class.<br />\n<br />\n2017 Hall of Fame Class::\n<ul>\n	<li>Tiffany Boyd (Softball\, 1991-93)</li>\n	<li>Mel Franks&nbsp\;(Sports Information Director\, 1980-2012)</li>\n	<li>George Horton (Baseball: Player\, 1975-76\; Associate Head Coach\, 1991-96\; Head Coach\, 1997-07)</li>\n	<li>Kurt Suzuki (Baseball\, 2002-04)</li>\n	<li>Kathy Van Wyk (Softball\, 1982)</li>\n</ul>\nAll proceeds from this event directly benefit the&nbsp\;Titan Athletics programs.
LOCATION:Embassy Suites by Hilton Brea 900 E. Birch St. Brea\, CA 92821
UID:e.887.17347
SEQUENCE:3
DTSTAMP:20260420T214334Z
URL:https://nocchamber-gzcms.preview.gochambermaster.com/events/details/csuf-2017-titan-athletics-hall-of-fame-dinner-17347
END:VEVENT

END:VCALENDAR
