BEGIN:VCALENDAR
VERSION:2.0
PRODID:-//ChamberMaster//Event Calendar 2.0//EN
METHOD:PUBLISH
X-PUBLISHED-TTL:P3D
REFRESH-INTERVAL:P3D
CALSCALE:GREGORIAN
BEGIN:VEVENT
DTSTART:20181128T013000Z
DTEND:20181128T024500Z
X-MICROSOFT-CDO-ALLDAYEVENT:FALSE
SUMMARY:CSU Fullerton De Graaf Center: Past\, Present\, and Future
DESCRIPTION:The CSU Fullerton Center for Oral and Public History is celebrating 50 years of recording and preserving the region's stories. Join for a panel discussion on the history of the Center and its goals for the future.
X-ALT-DESC;FMTTYPE=text/html:The CSU Fullerton Center for Oral and Public History is celebrating 50 years of recording and preserving the region&#39\;s stories. Join for a panel discussion on the history of the Center and its goals for the future.
LOCATION:Pollak Library South\, Room 360 California State University\, Fullerton 800 N State College Blvd. Fullerton\, CA 92831
UID:e.887.22835
SEQUENCE:3
DTSTAMP:20260423T095845Z
URL:https://nocchamber-gzcms.preview.gochambermaster.com/events/details/csu-fullerton-de-graaf-center-past-present-and-future-22835
END:VEVENT

END:VCALENDAR
