BEGIN:VCALENDAR
VERSION:2.0
PRODID:-//ChamberMaster//Event Calendar 2.0//EN
METHOD:PUBLISH
X-PUBLISHED-TTL:P3D
REFRESH-INTERVAL:P3D
CALSCALE:GREGORIAN
BEGIN:VEVENT
DTSTART;VALUE=DATE:20150921
DTEND;VALUE=DATE:20150922
TRANSP:TRANSPARENT
X-MICROSOFT-CDO-ALLDAYEVENT:TRUE
SUMMARY:Crittenton's Annual Community for Kids Golf Tournament
DESCRIPTION:You're invited to the Crittenton Services for Children and Families' annual Community for Kids golf tournament\, dinner\, and auction on Monday\, September 21.\n\n\n\nRelax around the pool or sit and chat in the comfort of the clubhouse with appetizers and drinks. Listen to live music playing softly in the background--your special requests accepted.\n\n\n\nHead out to a nearby green to watch a helicopter drop hundreds of numbered balls on one of the greens. If you buy a ticket and your number is the first to go in the hole--or is nearest to the hole--you will win a $500 gift card.\n\n\n\nAfter the exciting helicopter event\, head back into the clubhouse to join some of our golfers for a fabulous auction and raffle\, a delicious dinner with a few surprises thrown in\, and an evening of comfortable\, casual fun with your friends and associates. \n\n\n\nDinner: $50\n\nHelicopter drop tickets $10/each or 3 for $25\n\n\n\nR.S.V.P by September 14\n\nAll proceeds are for educational programs.\n\n\n\nTo register by phone call: (714) 680-8218.\n\nFor more information\, contact golf@crittentonsocal.org.
X-ALT-DESC;FMTTYPE=text/html:You&#39\;re invited to the&nbsp\;Crittenton&nbsp\;Services for Children and Families&#39\; annual&nbsp\;<em>Community for Kids</em>&nbsp\;golf tournament\, dinner\, and auction&nbsp\;on Monday\, September 21.<br />\n<br />\nRelax around the pool or sit and chat in the comfort of the clubhouse with appetizers and drinks. Listen to live music playing softly in the background--your special requests accepted.<br />\n<br />\nHead out to a nearby green to watch a helicopter drop hundreds of numbered balls on one of the greens. If you buy a&nbsp\;ticket and your number is the first to go in the hole--or is nearest to the hole--you will win a $500 gift card.<br />\n<br />\nAfter the exciting helicopter event\, head back into the clubhouse to join some of our golfers for a fabulous auction and raffle\, a delicious dinner with a few surprises thrown in\, and an evening of comfortable\, casual fun with your friends and associates.&nbsp\;<br />\n<br />\nDinner: $50<br />\nHelicopter drop tickets $10/each or 3 for $25<br />\n<br />\nR.S.V.P by September 14<br />\nAll proceeds are for educational programs.<br />\n<br />\nTo register by phone call: (714) 680-8218.<br />\nFor more information\, contact golf@crittentonsocal.org.
LOCATION:Yorba Linda Country Club 19400 Mountain View Ave. Yorba Linda\, California
UID:e.887.11960
SEQUENCE:3
DTSTAMP:20260424T061755Z
URL:https://nocchamber-gzcms.preview.gochambermaster.com/events/details/crittenton-s-annual-community-for-kids-golf-tournament-11960
END:VEVENT

END:VCALENDAR
