BEGIN:VCALENDAR
VERSION:2.0
PRODID:-//ChamberMaster//Event Calendar 2.0//EN
METHOD:PUBLISH
X-PUBLISHED-TTL:P3D
REFRESH-INTERVAL:P3D
CALSCALE:GREGORIAN
BEGIN:VEVENT
DTSTART:20180917T173000Z
DTEND:20180918T020000Z
X-MICROSOFT-CDO-ALLDAYEVENT:FALSE
SUMMARY:Crittenton - 2018 Annual Golf Tournament Dinner & Auction
DESCRIPTION:Crittenton will be hosting their 2018 Annual Golf Tournament Dinner & Auction on Monday\, September 17\, 2018 at the Yorba Linda Country Club\, 19400 Mountain View Ave.\, Yorba Linda\, CA. \n\n	Registration - 10:30 a.m. \n	Lunch - 11:30 a.m.\n	Shotgun start - 12:30 p.m.\n	Hors d'oeuvres and refreshments - 5:00 p.m.\n	Dinner and auction - 5:30 p.m.
X-ALT-DESC;FMTTYPE=text/html:Crittenton will be hosting their&nbsp\;<strong>2018 Annual Golf Tournament Dinner &amp\; Auction</strong> on Monday\, September 17\, 2018 at the Yorba Linda Country Club\, 19400 Mountain View Ave.\, Yorba Linda\, CA.&nbsp\;\n<ul>\n	<li>Registration - 10:30 a.m.&nbsp\;</li>\n	<li>Lunch -&nbsp\;11:30 a.m.</li>\n	<li>Shotgun start - 12:30 p.m.</li>\n	<li>Hors d&#39\;oeuvres and&nbsp\;refreshments - 5:00 p.m.</li>\n	<li>Dinner and auction -&nbsp\;5:30 p.m.</li>\n</ul>\n
LOCATION:Yorba Linda Country Club 19400 Mountain View Ave. Yorba Linda\, CA 92886
UID:e.887.22595
SEQUENCE:3
DTSTAMP:20260422T115546Z
URL:https://nocchamber-gzcms.preview.gochambermaster.com/events/details/crittenton-2018-annual-golf-tournament-dinner-auction-22595
END:VEVENT

END:VCALENDAR
