BEGIN:VCALENDAR
VERSION:2.0
PRODID:-//ChamberMaster//Event Calendar 2.0//EN
METHOD:PUBLISH
X-PUBLISHED-TTL:P3D
REFRESH-INTERVAL:P3D
CALSCALE:GREGORIAN
BEGIN:VEVENT
DTSTART:20190713T020000Z
DTEND:20190713T040000Z
X-MICROSOFT-CDO-ALLDAYEVENT:FALSE
SUMMARY:Creative Co-Op at the Fullerton Museum Center: Polymer Clay Trinkets
DESCRIPTION:Second Fridays are filled with fun at the Fullerton Museum Center. Classes are for age 21 and up. Beer and wine will be available for purchase.\n\n\n\nSession: Polymer Trinket Bowls\n\nRoom/Facility: Classroom\n\nRegistration: April 1 - September 7\n\nMin. Participants: 3\n\nMax. Participants: 15\n\nInstructor: Fullerton Museum Association\n\n\n\nMuseum Members: to receive your discounted fee of $15\, please call the Fullerton Museum Center at 714-738-6545.
X-ALT-DESC;FMTTYPE=text/html:Second Fridays are filled with fun at the Fullerton Museum Center. Classes are for age 21 and up. Beer and wine will be available for purchase.<br />\n<br />\nSession: Polymer Trinket Bowls<br />\nRoom/Facility: Classroom<br />\nRegistration: April 1 - September 7<br />\nMin. Participants: 3<br />\nMax. Participants: 15<br />\nInstructor: Fullerton Museum Association<br />\n<br />\nMuseum Members: to receive your discounted fee of $15\, please call the Fullerton Museum Center at 714-738-6545.
LOCATION:Fullerton Museum Center Classroom 301 N. Pomona Fullerton\, CA 92832
UID:e.887.23432
SEQUENCE:3
DTSTAMP:20260424T101451Z
URL:https://nocchamber-gzcms.preview.gochambermaster.com/events/details/creative-co-op-at-the-fullerton-museum-center-polymer-clay-trinkets-23432
END:VEVENT

END:VCALENDAR
