BEGIN:VCALENDAR
VERSION:2.0
PRODID:-//ChamberMaster//Event Calendar 2.0//EN
METHOD:PUBLISH
X-PUBLISHED-TTL:P3D
REFRESH-INTERVAL:P3D
CALSCALE:GREGORIAN
BEGIN:VEVENT
DTSTART:20160503T183000Z
DTEND:20160503T200000Z
X-MICROSOFT-CDO-ALLDAYEVENT:FALSE
SUMMARY:Connecting At Noon -- Getting Noticed!
DESCRIPTION:Focus on Marketing Your Small Business! This fast paced session will review the tools for marketing your small business.  Media to be discussed includes advertising\, promotion\, sales\, and more and will address how to effectively position your product or service for success.\n\n\n\nCarl has been a SCORE Counselor for more than 10 years serving as a business counselor and marketing specialist. His business career included sales and directing sales groups\, production control and packaged goods brand management\, including directing corporate departments of advertising\, consumer promotion\, marketing research and packaging design.
X-ALT-DESC;FMTTYPE=text/html:<span style="font-size:12px\;"><span style="font-family:arial\;"><span style="color:black\;">Focus on Marketing Your Small Business!&nbsp\;This fast paced session will review the&nbsp\;tools for marketing your small business. &nbsp\;Media to be discussed includes advertising\, promotion\, sales\, and more and will address how to effectively position your product or service for success.</span><br />\n<br />\nCarl has been a SCORE Counselor for more than 10 years serving as a business counselor and marketing specialist. His&nbsp\;business career included sales and directing sales groups\, production control and packaged goods brand management\, including directing corporate departments of advertising\, consumer promotion\, marketing research and packaging design.</span></span><br />\n&nbsp\;
LOCATION:Connecting At Noon - Getting Noticed! Colette's Catering at the Meridian Sports Club 1535 Deerpark Drive\, Second Level\, Fullerton\, CA 92832
UID:e.887.14272
SEQUENCE:3
DTSTAMP:20260423T131824Z
URL:https://nocchamber-gzcms.preview.gochambermaster.com/events/details/connecting-at-noon-getting-noticed-14272
END:VEVENT

END:VCALENDAR
