BEGIN:VCALENDAR
VERSION:2.0
PRODID:-//ChamberMaster//Event Calendar 2.0//EN
METHOD:PUBLISH
X-PUBLISHED-TTL:P3D
REFRESH-INTERVAL:P3D
CALSCALE:GREGORIAN
BEGIN:VEVENT
DTSTART:20160712T183000Z
DTEND:20160712T200000Z
X-MICROSOFT-CDO-ALLDAYEVENT:FALSE
SUMMARY:Connecting At Noon - Cross-Cultural Relations in Business
DESCRIPTION:Laura Macias\, Executive Director of Joya Scholars will be presenting on cross-cultural relations for your business.\n\n\n\nLiving and doing business in Southern California has many benefits\, one of those being the variety of people that will frequent your shop or purchase your products and/or services. This workshop will teach you how to interact with people that come from different backgrounds and yet are a portion consumers in our region.
X-ALT-DESC;FMTTYPE=text/html:Laura Macias\, Executive Director of Joya Scholars will be presenting on cross-cultural relations for your business.<br />\n<br />\nLiving and doing business in Southern California has many benefits\, one of those being the variety of people that will frequent your shop or purchase your products and/or services. This workshop will teach you how to interact with people that come from different backgrounds and yet are a portion consumers in our region.
LOCATION:Holiday Inn\, Buena Park 7000 Beach Blvd\, Buena Park\, CA 90620
UID:e.887.14480
SEQUENCE:3
DTSTAMP:20260423T004423Z
URL:https://nocchamber-gzcms.preview.gochambermaster.com/events/details/connecting-at-noon-cross-cultural-relations-in-business-14480
END:VEVENT

END:VCALENDAR
