BEGIN:VCALENDAR
VERSION:2.0
PRODID:-//ChamberMaster//Event Calendar 2.0//EN
METHOD:PUBLISH
X-PUBLISHED-TTL:P3D
REFRESH-INTERVAL:P3D
CALSCALE:GREGORIAN
BEGIN:VEVENT
DTSTART:20170511T000000Z
DTEND:20170511T020000Z
X-MICROSOFT-CDO-ALLDAYEVENT:FALSE
SUMMARY:Connecting After Hours - TGI Fridays
DESCRIPTION:The North Orange County Chamber invites you to a Connecting After Hours Mixer at TGI Fridays\, Buena Park.
X-ALT-DESC;FMTTYPE=text/html:The&nbsp\;<a href="http://www.nocchamber.com/" target="_blank"><font color="#0066cc">North Orange County Chamber</font></a>&nbsp\;invites you to a Connecting After Hours Mixer at&nbsp\;<a href="https://www.tgifridays.com/locations/1088/fridays-knotts-berry-farm-california/" target="_blank">TGI Fridays</a>\, Buena Park.
LOCATION:TGI Fridays - Buena Park 8039 Beach Blvd. Buena Park\, CA 90620
UID:e.887.16129
SEQUENCE:3
DTSTAMP:20260421T033301Z
URL:https://nocchamber-gzcms.preview.gochambermaster.com/events/details/connecting-after-hours-tgi-fridays-16129
END:VEVENT

END:VCALENDAR
