BEGIN:VCALENDAR
VERSION:2.0
PRODID:-//ChamberMaster//Event Calendar 2.0//EN
METHOD:PUBLISH
X-PUBLISHED-TTL:P3D
REFRESH-INTERVAL:P3D
CALSCALE:GREGORIAN
BEGIN:VEVENT
DTSTART:20170916T150000Z
DTEND:20170916T213000Z
X-MICROSOFT-CDO-ALLDAYEVENT:FALSE
SUMMARY:CLLI Women's Empowerment Summit Fullerton College
DESCRIPTION:The Women's Empowerment Summit Program provides knowledge about resources and networking opportunities for a cross section of women participants by age\, culture and interest including college students\, small business owners\, nonprofit leaders\, community leaders and elected officials to succeed and improve their lives. Each Summit has an expected attendance of 100 women ages 16-80 who seek knowledge about current trends\, share resources\, and networking regionally with other women.\n\nThe Summit's one-day program is broken into morning and an awards luncheon. The morning keynote speakers will present factual data from the Clayman Institute for Gender Research at Stanford University and other academic and industry leaders. Following the morning sessions\, a formal luncheon program highlights distinguished woman industry leaders as role models of success. An effort is made to also include local high school women in the day's activities.
X-ALT-DESC;FMTTYPE=text/html:<p>The Women&rsquo\;s Empowerment Summit Program provides knowledge about resources and networking opportunities for a cross section of women participants by age\, culture and interest including college students\, small business owners\, nonprofit leaders\, community leaders and elected officials to succeed and improve their lives. Each Summit has an expected attendance of 100 women ages 16-80 who seek knowledge about current trends\, share resources\, and networking regionally with other women.</p>\n\n<p>The Summit&rsquo\;s one-day program is broken into morning and an awards luncheon. The morning keynote speakers will present factual data from the Clayman Institute for Gender Research at Stanford University and other academic and industry leaders. Following the morning sessions\, a formal luncheon program highlights distinguished woman industry leaders as role models of success. An effort is made to also include local high school women in the day&rsquo\;s activities.</p>\n
LOCATION:Fullerton College 321 E Chapman Ave. Fullerton\, CA 92832
UID:e.887.17319
SEQUENCE:3
DTSTAMP:20260420T170548Z
URL:https://nocchamber-gzcms.preview.gochambermaster.com/events/details/clli-women-s-empowerment-summit-fullerton-college-17319
END:VEVENT

END:VCALENDAR
