BEGIN:VCALENDAR
VERSION:2.0
PRODID:-//ChamberMaster//Event Calendar 2.0//EN
METHOD:PUBLISH
X-PUBLISHED-TTL:P3D
REFRESH-INTERVAL:P3D
CALSCALE:GREGORIAN
BEGIN:VEVENT
DTSTART:20161111T180000Z
DTEND:20161111T190000Z
X-MICROSOFT-CDO-ALLDAYEVENT:FALSE
SUMMARY:City of Placentia 28th Annual Veterans Day Observance Ceremony
DESCRIPTION:The City of Placentia 28th Annual Veterans Day Observance Ceremony will be held on Friday\, November 11th at 10:00 a.m. at the Placentia Civic Center Plaza.
X-ALT-DESC;FMTTYPE=text/html:The City of Placentia 28th Annual Veterans Day Observance Ceremony will be held on Friday\, November 11th at 10:00 a.m. at the Placentia Civic Center Plaza.
LOCATION:Placentia Civic Center Plaza 401 E. Chapman Ave. Placentia\, CA 92870
UID:e.887.15516
SEQUENCE:3
DTSTAMP:20260422T012250Z
URL:https://nocchamber-gzcms.preview.gochambermaster.com/events/details/city-of-placentia-28th-annual-veterans-day-observance-ceremony-15516
END:VEVENT

END:VCALENDAR
