BEGIN:VCALENDAR
VERSION:2.0
PRODID:-//ChamberMaster//Event Calendar 2.0//EN
METHOD:PUBLISH
X-PUBLISHED-TTL:P3D
REFRESH-INTERVAL:P3D
CALSCALE:GREGORIAN
BEGIN:VEVENT
DTSTART:20180724T010000Z
DTEND:20180724T023000Z
X-MICROSOFT-CDO-ALLDAYEVENT:FALSE
SUMMARY:City of Fullerton Transportation and Circulation Commission Meeting
DESCRIPTION:The City of Fullerton will be holding a public meeting regarding transportation and circulation commission: \n\n	Proposed changes to Downtown Employee Permit Parking Program including phased fee increase and relocatin of spaces\n	Proposed Downtown Nighttime Paid Parking Pilot Program from Thursday through Saturday after 8:00 p.m.\n\nThe meeting will be held on Monday\, July 23\, 2018 at 6:00 p.m. at Fullerton City Hall\, City Council Chambers 303 W. Commonwealth Ave.\, Fullerton\, CA 92832.
X-ALT-DESC;FMTTYPE=text/html:The City of Fullerton will be holding a public meeting regarding transportation and circulation commission:&nbsp\;\n<ul>\n	<li>Proposed changes to Downtown Employee Permit Parking Program including phased fee increase and relocatin of spaces</li>\n	<li>Proposed Downtown Nighttime Paid Parking Pilot Program from Thursday through Saturday after 8:00 p.m.</li>\n</ul>\nThe meeting will be held on Monday\, July 23\, 2018 at 6:00 p.m. at Fullerton City Hall\, City Council Chambers 303 W. Commonwealth Ave.\, Fullerton\, CA 92832.
LOCATION:Fullerton City Hall City Council Chambers 303 W. Commonwealth Ave. Fullerton\, CA 92832
UID:e.887.22538
SEQUENCE:3
DTSTAMP:20260422T064951Z
URL:https://nocchamber-gzcms.preview.gochambermaster.com/events/details/city-of-fullerton-transportation-and-circulation-commission-meeting-22538
END:VEVENT

END:VCALENDAR
