BEGIN:VCALENDAR
VERSION:2.0
PRODID:-//ChamberMaster//Event Calendar 2.0//EN
METHOD:PUBLISH
X-PUBLISHED-TTL:P3D
REFRESH-INTERVAL:P3D
CALSCALE:GREGORIAN
BEGIN:VEVENT
DTSTART:20161110T010000Z
DTEND:20161110T020000Z
X-MICROSOFT-CDO-ALLDAYEVENT:FALSE
SUMMARY:City of Buena Park Veterans Honor Walk
DESCRIPTION:The City of Buena Park is hosting a Veterans Honor Walk. Veterans are encouraged to register by calling (714) 236-3870 or submit your name to seniors@buenapark.com.\n\n\n\nThis annual event allows the citizens of Buena Park the opportunity to thank the brave men and women for their sacrifice and service to the United States of America.
X-ALT-DESC;FMTTYPE=text/html:The City of Buena Park is hosting a Veterans Honor Walk. Veterans are encouraged to register by calling (714) 236-3870 or submit your name to seniors@buenapark.com.<br />\n<br />\nThis annual event allows the citizens of Buena Park the opportunity to thank the brave men and women for their sacrifice and service to the United States of America.
LOCATION:Ehlers Event Center 8150 Knott Ave. Buena Park\, CA 90620
UID:e.887.15511
SEQUENCE:3
DTSTAMP:20260422T012122Z
URL:https://nocchamber-gzcms.preview.gochambermaster.com/events/details/city-of-buena-park-veterans-honor-walk-15511
END:VEVENT

END:VCALENDAR
