BEGIN:VCALENDAR
VERSION:2.0
PRODID:-//ChamberMaster//Event Calendar 2.0//EN
METHOD:PUBLISH
X-PUBLISHED-TTL:P3D
REFRESH-INTERVAL:P3D
CALSCALE:GREGORIAN
BEGIN:VEVENT
DTSTART:20190420T150000Z
DTEND:20190420T200000Z
X-MICROSOFT-CDO-ALLDAYEVENT:FALSE
SUMMARY:City of Buena Park - Spring Eggstravaganza & Pancake Breakfast
DESCRIPTION:Spring Eggstravaganza & Pancake Breakfast: \n\n	Entertainment\n	Bounce houses and children's crafts \n	Field games and Relays\n	Petting zoo and Bunny visit\n	Egg hunting
X-ALT-DESC;FMTTYPE=text/html:Spring Eggstravaganza &amp\; Pancake Breakfast:&nbsp\;\n<ul>\n	<li>Entertainment</li>\n	<li>Bounce houses and children&#39\;s crafts&nbsp\;</li>\n	<li>Field games and&nbsp\;Relays</li>\n	<li>Petting zoo and&nbsp\;Bunny visit</li>\n	<li>Egg hunting</li>\n</ul>\n
LOCATION:Boisseranc Park 7520 Dale St. Buena Park\, CA 90620
UID:e.887.22892
SEQUENCE:3
DTSTAMP:20260424T032305Z
URL:https://nocchamber-gzcms.preview.gochambermaster.com/events/details/city-of-buena-park-spring-eggstravaganza-pancake-breakfast-22892
END:VEVENT

END:VCALENDAR
