BEGIN:VCALENDAR
VERSION:2.0
PRODID:-//ChamberMaster//Event Calendar 2.0//EN
METHOD:PUBLISH
X-PUBLISHED-TTL:P3D
REFRESH-INTERVAL:P3D
CALSCALE:GREGORIAN
BEGIN:VEVENT
DTSTART:20180603T163000Z
DTEND:20180603T203000Z
X-MICROSOFT-CDO-ALLDAYEVENT:FALSE
SUMMARY:City of Buena Park - Small Business Seminar
DESCRIPTION:City of Buena Park will be hosting a Small Business Seminar at the Ehlers Event Center on Thursday\, September 6\, 2018. \nThis free seminar will provide insight into planning\, establishing\, and running a business. Hear first hand from County\, City\, State\, and Federal Agencies.\n\nThe Agenda is as follows:\n\n9:30 a.m. - Welcome\n\n9:40 a.m. - Understanding Zoning and Plan Check\n\n10:00 a.m. - Navigating the Building Permit Process\n\n10:20 a.m. - A Guide to Fire Dept. Permitting\n\n10:40 a.m. - Break\n\n10:50 a.m. - Environmental Health & Food Safety by HCA\n\n11:30 a.m. - Tips from Small Business Administration\n\n12:00 p.m. - CA Department of Taxes and Fees\n\n12:30 p.m. - Setting Up Your Utlities\n\n1:00 p.m. - Alcohol Beverage Control (ABC)\n\n1:20 p.m. - Q & A
X-ALT-DESC;FMTTYPE=text/html:City of Buena Park will be hosting a <strong>Small Business Seminar</strong> at the Ehlers Event Center on Thursday\, September 6\, 2018.&nbsp\;\n<p>This free seminar will provide insight into planning\, establishing\, and running a business. Hear first hand from County\, City\, State\, and Federal Agencies.<o:p></o:p></p>\n\n<p>The Agenda is as follows:<o:p></o:p></p>\n\n<p>9:30 a.m. - Welcome<br />\n9:40 a.m. - Understanding Zoning and Plan Check<br />\n10:00 a.m. - Navigating the Building Permit Process<br />\n10:20 a.m. - A Guide to Fire Dept. Permitting<br />\n10:40 a.m. - Break<br />\n10:50 a.m. - Environmental Health &amp\; Food Safety by HCA<br />\n11:30 a.m. - Tips from Small Business Administration<br />\n12:00 p.m. - CA Department of Taxes and Fees<br />\n12:30 p.m. - Setting Up Your Utlities<br />\n1:00 p.m. - Alcohol Beverage Control (ABC)<br />\n1:20 p.m. - Q &amp\; A<o:p></o:p></p>\n
LOCATION:Ehlers Event Center 8150 Knott Ave Buena Park\, CA 90620
UID:e.887.22672
SEQUENCE:3
DTSTAMP:20260422T050146Z
URL:https://nocchamber-gzcms.preview.gochambermaster.com/events/details/city-of-buena-park-small-business-seminar-22672
END:VEVENT

END:VCALENDAR
