BEGIN:VCALENDAR
VERSION:2.0
PRODID:-//ChamberMaster//Event Calendar 2.0//EN
METHOD:PUBLISH
X-PUBLISHED-TTL:P3D
REFRESH-INTERVAL:P3D
CALSCALE:GREGORIAN
BEGIN:VEVENT
DTSTART:20181019T200000Z
DTEND:20181019T230000Z
X-MICROSOFT-CDO-ALLDAYEVENT:FALSE
SUMMARY:City of Buena Park - Buena Park Goes to College
DESCRIPTION:Parents and students of all ages are invited to attend this free workshop to learn valuable information about post-secondary education. The workshop will include:\n\n	The college systems\n	How to apply for financial aid\n	Meet directly with college and university representatives\n	raffle give-away for Knott's Berry Farm tickets and Kindle Fire 7
X-ALT-DESC;FMTTYPE=text/html:Parents and students of all ages are invited to attend this free workshop to learn valuable information about post-secondary education.&nbsp\;The workshop will include:\n<ul>\n	<li>The college systems</li>\n	<li>How to apply for financial aid</li>\n	<li>Meet directly with college and university representatives</li>\n	<li>raffle give-away for Knott&#39\;s Berry Farm tickets and Kindle Fire 7</li>\n</ul>\n
LOCATION:Ehlers Event Center of Liberty Hall 8150 Knott Ave. Buena Park\, CA 90620
UID:e.887.22742
SEQUENCE:3
DTSTAMP:20260422T223715Z
URL:https://nocchamber-gzcms.preview.gochambermaster.com/events/details/city-of-buena-park-buena-park-goes-to-college-22742
END:VEVENT

END:VCALENDAR
