BEGIN:VCALENDAR
VERSION:2.0
PRODID:-//ChamberMaster//Event Calendar 2.0//EN
METHOD:PUBLISH
X-PUBLISHED-TTL:P3D
REFRESH-INTERVAL:P3D
CALSCALE:GREGORIAN
BEGIN:VEVENT
DTSTART:20180126T020000Z
DTEND:20180126T050000Z
X-MICROSOFT-CDO-ALLDAYEVENT:FALSE
SUMMARY:Charity Event
DESCRIPTION:We are reaching out to our community to come together to raise money for a local nonprofit. Together We Rise is a leader in foster care innovation. 100% of all the proceeds will be going to Together We Rise. It will also be a great opportunity for networking and supporting a great cause.
X-ALT-DESC;FMTTYPE=text/html:<div>\n<p style="margin: 0px\;"><span style="font-size:14px\;"><span style="margin: 0px\;"><font color="#000000" face="Times New Roman">We are reaching out to our community to come together to raise money for a local nonprofit. Together We Rise is a leader in foster care innovation. </font></span><font color="#000000" face="Times New Roman">100% of all the proceeds will be going to Together We Rise. It will also be a great opportunity for networking and supporting a great cause.&nbsp\;</font></span></p>\n</div>\n
LOCATION:Custom Comfort Mattress 443 S. Associated Blvd. Brea\, CA 92821
UID:e.887.17520
SEQUENCE:3
DTSTAMP:20260422T005517Z
URL:https://nocchamber-gzcms.preview.gochambermaster.com/events/details/charity-event-17520
END:VEVENT

END:VCALENDAR
