BEGIN:VCALENDAR
VERSION:2.0
PRODID:-//ChamberMaster//Event Calendar 2.0//EN
METHOD:PUBLISH
X-PUBLISHED-TTL:P3D
REFRESH-INTERVAL:P3D
CALSCALE:GREGORIAN
BEGIN:VEVENT
DTSTART:20150509T010000Z
DTEND:20150509T020000Z
X-MICROSOFT-CDO-ALLDAYEVENT:FALSE
SUMMARY:Chamber of Commerce Tailgate at CSUF
DESCRIPTION:Cal State University Fullerton is hosting a "thank you" tailgate dinner for on May 8\, 6 p.m. at Lot A near the CSUF baseball field for Fullerton Chamber members and 2 free general admission tickets to the CSUF baseball game against UCSB that evening.\n\n\n\nClick here to register!
X-ALT-DESC;FMTTYPE=text/html:Cal State University Fullerton is hosting a &quot\;thank you&quot\;&nbsp\;tailgate dinner for on&nbsp\;May 8\, 6 p.m. at Lot A near the CSUF baseball field&nbsp\;for Fullerton&nbsp\;Chamber members and 2 free general admission tickets to the&nbsp\;CSUF baseball game against UCSB that evening.<br />\n<br />\nClick <a href="https://events.fullerton.edu/rsvp.aspx?lEvent_sk=157">here&nbsp\;</a>to register!
LOCATION:CSU Fullerton\, 800 N. State College Blvd.\, Lot A\, adjacent to the Titan baseball field.
UID:e.887.11186
SEQUENCE:3
DTSTAMP:20260424T220943Z
URL:https://nocchamber-gzcms.preview.gochambermaster.com/events/details/chamber-of-commerce-tailgate-at-csuf-11186
END:VEVENT

END:VCALENDAR
