BEGIN:VCALENDAR
VERSION:2.0
PRODID:-//ChamberMaster//Event Calendar 2.0//EN
METHOD:PUBLISH
X-PUBLISHED-TTL:P3D
REFRESH-INTERVAL:P3D
CALSCALE:GREGORIAN
BEGIN:VEVENT
DTSTART:20180413T160000Z
DTEND:20180414T000000Z
X-MICROSOFT-CDO-ALLDAYEVENT:FALSE
SUMMARY:Certified Global Business Professional Boot Camp
DESCRIPTION:Participate in this comprehensive export training\n\nand increase your skills in global trade!\n\n\n\nExpert\, accredited\, trainers in all four CGBP domains will cover a broad range of global competencies. This training program will enhance your Global Business knowledge and give you the tools necessary to compete in today's\n\nglobal market.\n\n\n\nSample topics and skills you will learn:\n\n*Assess a company's export readiness\n\n*Choose appropriate incoterms\n\n*Calculate landed cost\n\n*Evaluate international on freight forwarders\n\n*Check foreign buyer's credit\n\n*Select modes of entry to foreign markets\n\n*Understand payment mechanisms\n\n*Access government tools\, services & grants\n\n*Complete international documentation\n\n*Navigate international trade compliance
X-ALT-DESC;FMTTYPE=text/html:Participate in this comprehensive export training<br />\nand increase your skills in global trade!<br />\n<br />\nExpert\, accredited\, trainers in all four CGBP domains will cover a broad range of global competencies. This training program will enhance your Global Business knowledge and give you the tools necessary to compete in today&rsquo\;s<br />\nglobal market.<br />\n<br />\nSample topics and skills you will learn:<br />\n*Assess a company&rsquo\;s export readiness<br />\n*Choose appropriate incoterms<br />\n*Calculate landed cost<br />\n*Evaluate international on freight forwarders<br />\n*Check foreign buyer&rsquo\;s credit<br />\n*Select modes of entry to foreign markets<br />\n*Understand payment mechanisms<br />\n*Access government tools\, services &amp\; grants<br />\n*Complete international documentation<br />\n*Navigate international trade compliance
LOCATION:Rancho Santiago Community College District 2323 N. Broadway #107 (1st floor) Santa Ana\, CA 92706
UID:e.887.17757
SEQUENCE:3
DTSTAMP:20260422T013911Z
URL:https://nocchamber-gzcms.preview.gochambermaster.com/events/details/certified-global-business-professional-boot-camp-17757
END:VEVENT

END:VCALENDAR
