BEGIN:VCALENDAR
VERSION:2.0
PRODID:-//ChamberMaster//Event Calendar 2.0//EN
METHOD:PUBLISH
X-PUBLISHED-TTL:P3D
REFRESH-INTERVAL:P3D
CALSCALE:GREGORIAN
BEGIN:VEVENT
DTSTART:20170210T023000Z
DTEND:20170210T043000Z
X-MICROSOFT-CDO-ALLDAYEVENT:FALSE
SUMMARY:Celebrating the Legacy of Orange County’s Political History
DESCRIPTION:Celebrate the Legacy of Orange County's Political History at the Summit House Restaurant on Thursday\, February 9\, 2017 at 6:30 p.m.\n\nFor more information\, please call (657) 278-5309
X-ALT-DESC;FMTTYPE=text/html:<p>Celebrate the Legacy of Orange County&rsquo\;s Political History at the Summit House Restaurant on Thursday\, February 9\, 2017 at 6:30 p.m.</p>\n\n<p>For more information\, please call (657) 278-5309</p>\n
LOCATION:Summit House 2000 E. Bastanchury Road Fullerton\, CA 92835
UID:e.887.15622
SEQUENCE:3
DTSTAMP:20260422T000954Z
URL:https://nocchamber-gzcms.preview.gochambermaster.com/events/details/celebrating-the-legacy-of-orange-county-s-political-history-02-09-2017-15622
END:VEVENT

END:VCALENDAR
