BEGIN:VCALENDAR
VERSION:2.0
PRODID:-//ChamberMaster//Event Calendar 2.0//EN
METHOD:PUBLISH
X-PUBLISHED-TTL:P3D
REFRESH-INTERVAL:P3D
CALSCALE:GREGORIAN
BEGIN:VEVENT
DTSTART:20141116T180000Z
DTEND:20141117T000000Z
X-MICROSOFT-CDO-ALLDAYEVENT:FALSE
SUMMARY:California Native Plant Sale
DESCRIPTION:Featuring over 100 varieties of CA Native plants for sale. Learn how to build a native habitat garden to attract butterflies\, bees\, and birds. - See more at: http://www.fullertonarboretum.org/ps_CaliforniaNative.php#sthash.gmiEW3wI.dpuf
X-ALT-DESC;FMTTYPE=text/html:Featuring over 100 varieties of CA Native plants for sale. Learn how to build a native habitat garden to attract butterflies\, bees\, and birds. - See more at: http://www.fullertonarboretum.org/ps_CaliforniaNative.php#sthash.gmiEW3wI.dpuf
LOCATION:Fullerton Arboretum 1900 Associated Rd. Fullerton CA 92831
UID:e.887.10237
SEQUENCE:3
DTSTAMP:20260425T125146Z
URL:https://nocchamber-gzcms.preview.gochambermaster.com/events/details/california-native-plant-sale-11-16-2014-10237
END:VEVENT

END:VCALENDAR
