BEGIN:VCALENDAR
VERSION:2.0
PRODID:-//ChamberMaster//Event Calendar 2.0//EN
METHOD:PUBLISH
X-PUBLISHED-TTL:P3D
REFRESH-INTERVAL:P3D
CALSCALE:GREGORIAN
BEGIN:VEVENT
DTSTART:20151029T003000Z
DTEND:20151029T023000Z
X-MICROSOFT-CDO-ALLDAYEVENT:FALSE
SUMMARY:California High-Speed Rail Authority Community Open House Meeting
DESCRIPTION:The California High-Speed Rail Authority invites the public to learn more about the Los Angeles to Anaheim Project at their community open house meeting.\n\n\n\nThe California High-Speed Rail Authority's Los Angeles to Anaheim Project Section will connect Los Angeles and Orange counties with high-speed rail traveling from Los Angeles Union Station to Anaheim Regional Transportation Intermodal Center\, along the existing Los Angeles-San Diego-San Luis Obispo rail corridor currently used by commuter\, regional and freight rail providers\, such as Metrolink\, AMTRAK\, and BNSF.\n\n\n\nBuena Park\n\nWednesday\, Oct. 28\n\n5:30   7:30 p.m.\n\nBuena Park Community Center\n\n6688 Beach Blvd.\n\n\n\n\n\nFor more information on the project\, click here.
X-ALT-DESC;FMTTYPE=text/html:The California High-Speed Rail Authority invites the public to learn more about the Los Angeles to Anaheim Project at their community open house meeting.<br />\n<br />\nThe California High-Speed Rail Authority&rsquo\;s Los Angeles to Anaheim Project Section will connect Los Angeles and Orange counties with high-speed rail traveling from Los Angeles Union Station to Anaheim Regional Transportation Intermodal Center\, along the existing Los Angeles-San Diego-San Luis Obispo rail corridor currently used by commuter\, regional and freight rail providers\, such as Metrolink\, AMTRAK\, and BNSF.<br />\n<br />\n<strong>Buena Park</strong><br />\nWednesday\, Oct. 28<br />\n5:30 &ndash\; 7:30 p.m.<br />\nBuena Park Community Center<br />\n6688 Beach Blvd.<br />\n<br />\n<br />\n<span style="line-height: 20.8px\;">For more information on the project\,&nbsp\;</span><a href="http://hsr.ca.gov/Programs/Statewide_Rail_Modernization/Project_Sections/losangeles_anaheim.html" style="line-height: 20.8px\;">click here</a><span style="line-height: 20.8px\;">.</span>
LOCATION:Buena Park Community Center 6688 Beach Blvd. Buena Park\, CA 90621
UID:e.887.12359
SEQUENCE:3
DTSTAMP:20260424T020005Z
URL:https://nocchamber-gzcms.preview.gochambermaster.com/events/details/california-high-speed-rail-authority-community-open-house-meeting-12359
END:VEVENT

END:VCALENDAR
