BEGIN:VCALENDAR
VERSION:2.0
PRODID:-//ChamberMaster//Event Calendar 2.0//EN
METHOD:PUBLISH
X-PUBLISHED-TTL:P3D
REFRESH-INTERVAL:P3D
CALSCALE:GREGORIAN
BEGIN:VEVENT
DTSTART:20150502T003000Z
DTEND:20150502T040000Z
X-MICROSOFT-CDO-ALLDAYEVENT:FALSE
SUMMARY:Bunco Boogie
DESCRIPTION:The Woman's Club of Fullerton Presents\n\nBUNCO BOOGIE\n\nAN EVENING OF FOOD\, FUN\, & PRIZES!\n\n\nEnjoy a Fun Game of Bunco Along with Pasta Bar\, Salad\, Dessert\, Hot and Cold Beverages Included.\n\nNo-Host Bar with a Fun Specialty Drink.\n\n\n\nLive Auction and Pick-a-Prize Raffle with Many Fabulous Prizes to Choose From (Valued at $4\,500)!\n\n\n\nMen are welcome to play\, too!\n\n\n\nBuy Tickets Online Here \n\n\n\nLocation:\n\nMeridian Club/Colettes Catering\n\n1535 Deerpark Drive\, Fullerton CA 92831\n\nEntrance & parking on second level of parking structure\n\n(take Yorba Linda Blvd Exit off the 57 Fwy\, behind Target)\n\n \n\nCost:\n\n$30 advance\, $35 at the door.\n\n\n\nA Fundraiser Sponsored by The Woman's Club of Fullerton to benefit The Coast to Coast Foundation and the Woodcrest Park Project. Coast to Coast provides services that continually make a difference in the homeless community while bridging the gap in support for homeless children to succeed in school.
X-ALT-DESC;FMTTYPE=text/html:<h3 style="text-align: center\;"><span style="color:rgb(255\, 102\, 0)\; font-family:arial black\,avant garde"><strong>The Woman&#39\;s Club of Fullerton Presents<br />\nBUNCO BOOGIE<br />\nAN EVENING OF FOOD\, FUN\, &amp\; PRIZES!</strong></span></h3>\n\n<div>\n<p style="text-align: left\;">Enjoy a Fun Game of&nbsp\;Bunco&nbsp\;Along with&nbsp\;Pasta Bar\, Salad\, Dessert\, Hot and Cold Beverages Included.<br />\nNo-Host Bar with a Fun Specialty Drink.<br />\n<br />\nLive Auction and Pick-a-Prize Raffle&nbsp\;with Many Fabulous Prizes to Choose From (Valued at $4\,500)!<br />\n<br />\nMen are welcome to play\, too!<br />\n<br />\n<a href="http://womanscluboffullerton.org/BuncoBoogie/" target="_blank">Buy&nbsp\;Tickets Online Here</a>&nbsp\;<br />\n<br />\nLocation:<br />\nMeridian Club/Colettes&nbsp\;Catering<br />\n<a href="http://goo.gl/maps/o3bvX" target="_blank">1535&nbsp\;Deerpark&nbsp\;Drive</a>\, Fullerton CA 92831<br />\nEntrance &amp\; parking on second level of parking structure<br />\n(take&nbsp\;Yorba&nbsp\;Linda Blvd Exit off the 57 Fwy\, behind Target)<br />\n&nbsp\;<br />\nCost:<br />\n$30 advance\, $35 at the door.<br />\n<br />\nA Fundraiser Sponsored by&nbsp\;<a href="http://womanscluboffullerton.org/" target="_blank">The Woman&#39\;s Club of Fullerton</a>&nbsp\;to benefit&nbsp\;<a href="http://www.coasttocoastfoundation.org/home.html" target="_blank">The Coast to Coast Foundation</a>&nbsp\;and the&nbsp\;Woodcrest&nbsp\;Park Project.&nbsp\;Coast to Coast provides&nbsp\;services&nbsp\;that continually make a difference in the homeless&nbsp\;community while bridging the gap in support&nbsp\;for homeless children to succeed&nbsp\;in school.<br />\n&nbsp\;</p>\n</div>\n
LOCATION:Meridian Club - Colettes Catering 1535 Deerpark Drive\, Fullerton CA 92831
UID:e.887.11206
SEQUENCE:3
DTSTAMP:20260424T215456Z
URL:https://nocchamber-gzcms.preview.gochambermaster.com/events/details/bunco-boogie-11206
END:VEVENT

END:VCALENDAR
