BEGIN:VCALENDAR
VERSION:2.0
PRODID:-//ChamberMaster//Event Calendar 2.0//EN
METHOD:PUBLISH
X-PUBLISHED-TTL:P3D
REFRESH-INTERVAL:P3D
CALSCALE:GREGORIAN
BEGIN:VEVENT
DTSTART:20180502T153000Z
DTEND:20180502T173000Z
X-MICROSOFT-CDO-ALLDAYEVENT:FALSE
SUMMARY:Build A Local Search Presence
DESCRIPTION:For Small Business Week\, Google is holding a Livestream just for small business owners. This class will cover the basics of how to get your business on the map for the digital community. Please join SBDC\, the City of Santa Ana and the Delhi Center for this unique business event!
X-ALT-DESC;FMTTYPE=text/html:<span style="font-size:12px\;"><span style="font-family:arial\;"><span style="color:#222222\;">For Small Business Week\, Google is holding a Livestream just for small business owners. This class will cover the basics of how to get your business on the map for the digital community. Please join SBDC\, the City of Santa Ana and the Delhi Center for this unique business event!</span></span></span>
LOCATION:Delhi Center Ballroom 505 E Central Ave\, Santa Ana CA 92707
UID:e.887.21332
SEQUENCE:3
DTSTAMP:20260422T044939Z
URL:https://nocchamber-gzcms.preview.gochambermaster.com/events/details/build-a-local-search-presence-21332
END:VEVENT

END:VCALENDAR
