BEGIN:VCALENDAR
VERSION:2.0
PRODID:-//ChamberMaster//Event Calendar 2.0//EN
METHOD:PUBLISH
X-PUBLISHED-TTL:P3D
REFRESH-INTERVAL:P3D
CALSCALE:GREGORIAN
BEGIN:VEVENT
DTSTART:20170930T210000Z
DTEND:20171001T000000Z
X-MICROSOFT-CDO-ALLDAYEVENT:FALSE
SUMMARY:Buena Park Olde Tyme Fall Festival
DESCRIPTION:The City of Buena Park and Buena Park Historical Society present the Olde Tyme Fall Festival. Festivities include:\n\n\n	Tours of the historic Whitaker-Jaynes Estate\n	Storytelling in the Bacon House\n	Fall-themed crafts and old-time games for the kids\n	Thrilling magic shows\n	Local entertainment and food vendors\n	Halloween-themed vendors
X-ALT-DESC;FMTTYPE=text/html:<div>&nbsp\;</div>\n\n<div>The City of Buena Park&nbsp\;and Buena Park Historical Society present the Olde Tyme Fall Festival. Festivities include:</div>\n\n<ul>\n	<li>Tours of the historic Whitaker-Jaynes Estate</li>\n	<li>Storytelling in the Bacon House</li>\n	<li>Fall-themed crafts and old-time games for the kids</li>\n	<li>Thrilling magic shows</li>\n	<li>Local entertainment and food vendors</li>\n	<li>Halloween-themed vendors<br />\n	&nbsp\;</li>\n</ul>\n
LOCATION:6631 Beach Boulevard Buena Park\, California 90621 General parking will be across Beach Blvd. in the City Hall parking lot\, 6650 Beach Blvd.\, and handicap/disabled parking will be behind the First Congregational Church.
UID:e.887.17348
SEQUENCE:3
DTSTAMP:20260420T200313Z
URL:https://nocchamber-gzcms.preview.gochambermaster.com/events/details/buena-park-olde-tyme-fall-festival-17348
END:VEVENT

END:VCALENDAR
