BEGIN:VCALENDAR
VERSION:2.0
PRODID:-//ChamberMaster//Event Calendar 2.0//EN
METHOD:PUBLISH
X-PUBLISHED-TTL:P3D
REFRESH-INTERVAL:P3D
CALSCALE:GREGORIAN
BEGIN:VEVENT
DTSTART:20171210T230000Z
DTEND:20171211T010000Z
X-MICROSOFT-CDO-ALLDAYEVENT:FALSE
SUMMARY:Buena Park Community Chorus Winter Holiday Concert
DESCRIPTION:Join the Buena Park Community Chorus and get in the holiday spirit with their annual free concert!
X-ALT-DESC;FMTTYPE=text/html:<p><span style="font-family:&quot\;Calibri&quot\;\,&quot\;sans-serif&quot\;">Join the Buena Park Community Chorus and get in the holiday spirit with their annual free concert!&nbsp\;<o:p></o:p></span></p>\n
LOCATION:Ehlers Event Center 8150 Knott Ave. Buena Park\, 90620
UID:e.887.17467
SEQUENCE:3
DTSTAMP:20260421T033600Z
URL:https://nocchamber-gzcms.preview.gochambermaster.com/events/details/buena-park-community-chorus-winter-holiday-concert-17467
END:VEVENT

END:VCALENDAR
