BEGIN:VCALENDAR
VERSION:2.0
PRODID:-//ChamberMaster//Event Calendar 2.0//EN
METHOD:PUBLISH
X-PUBLISHED-TTL:P3D
REFRESH-INTERVAL:P3D
CALSCALE:GREGORIAN
BEGIN:VEVENT
DTSTART:20160720T010000Z
DTEND:20160720T030000Z
X-MICROSOFT-CDO-ALLDAYEVENT:FALSE
SUMMARY:Buena Park 2016 Town Hall Meeting
DESCRIPTION:The Buena Park Police Department will be holding their 2nd Annual Town Hall Meeting on Tuesday\, July 19\, from 6:00 p.m. to 8:00 p.m.\n\n \n\nThis meeting is for the public and all residents of Buena Park to attend and ask questions or share concerns regarding their community.\n\n \n\nThe meeting's topics include:\n\n	Area Commander Program\n	Identify theft\n	Transients/homeless issues\n\nIf you have any questions\, please call Police Service Officer\, Lorie Nasman at (714) 562-3993 or the Watch Commander's office at (714) 562-3935.
X-ALT-DESC;FMTTYPE=text/html:The Buena Park Police Department will be holding their 2nd Annual Town Hall Meeting on Tuesday\, July 19\, from 6:00 p.m. to 8:00 p.m.<br />\n&nbsp\;<br />\nThis meeting is for the public and all residents of Buena Park to attend and ask questions or share concerns regarding their community.<br />\n&nbsp\;<br />\nThe meeting&rsquo\;s topics include:\n<ul>\n	<li>Area Commander Program</li>\n	<li>Identify theft</li>\n	<li>Transients/homeless issues</li>\n</ul>\nIf you have any questions\, please call Police Service Officer\, Lorie Nasman at (714) 562-3993 or the Watch Commander&rsquo\;s office at (714) 562-3935.<br />\n&nbsp\;
LOCATION:Buena Park Community Center 6688 Beach Blvd. Buena Park\, CA 90620
UID:e.887.14613
SEQUENCE:3
DTSTAMP:20260422T172330Z
URL:https://nocchamber-gzcms.preview.gochambermaster.com/events/details/buena-park-2016-town-hall-meeting-14613
END:VEVENT

END:VCALENDAR
