BEGIN:VCALENDAR
VERSION:2.0
PRODID:-//ChamberMaster//Event Calendar 2.0//EN
METHOD:PUBLISH
X-PUBLISHED-TTL:P3D
REFRESH-INTERVAL:P3D
CALSCALE:GREGORIAN
BEGIN:VEVENT
DTSTART:20140426T190000Z
DTEND:20140426T230000Z
X-MICROSOFT-CDO-ALLDAYEVENT:FALSE
SUMMARY:Bootlegger's 6th Anniversary
DESCRIPTION:Bootlegger's Brewery is a microbrewery here in Fullerton. As a small artisan brewery with a unique small batch process\, they have the opportunity to remain one of the most flexible breweries in Southern California while still consistently providing fresh and unique craft beer to our local community. Enjoy craft beer from local California breweries\, live music\, and entertainment at the Muck!
X-ALT-DESC;FMTTYPE=text/html:Bootlegger&rsquo\;s Brewery is a microbrewery here in Fullerton. As a small artisan brewery with a unique small batch process\, they have the opportunity to remain one of the most flexible breweries in Southern California while still consistently providing fresh and unique craft beer to our local community. Enjoy craft beer from local California breweries\, live music\, and entertainment at the Muck!
LOCATION:The Muckenthaler Cultural Center
UID:e.887.8708
SEQUENCE:3
DTSTAMP:20260426T012255Z
URL:https://nocchamber-gzcms.preview.gochambermaster.com/events/details/bootlegger-s-6th-anniversary-8708
END:VEVENT

END:VCALENDAR
