BEGIN:VCALENDAR
VERSION:2.0
PRODID:-//ChamberMaster//Event Calendar 2.0//EN
METHOD:PUBLISH
X-PUBLISHED-TTL:P3D
REFRESH-INTERVAL:P3D
CALSCALE:GREGORIAN
BEGIN:VEVENT
DTSTART:20150416T150000Z
DTEND:20150416T160000Z
X-MICROSOFT-CDO-ALLDAYEVENT:FALSE
SUMMARY:Board of Equalization Basic Sales & Use Tax Workshop
DESCRIPTION:The Fullerton Chamber of Commerce will host a Basic Sales & Tax workshop presented by the California State Board of Equalization. Topics will include:\n\n\n	Basic Sales & Use Tax Law\n	Avoiding Common Mistakes\n	Tax Services Available from BOE\n	Locating Forms & Publications\n	Obtaining Sales Permit\n	Exemptions & Deductions\n	Taxes on Food\n	Labor & Installation\n	Sales to Government\n	Interstate & Foreign Commerce\n	Non-Profits\n	Tax Payers' Rights\n\nOpen to the public\, with advanced reservation.
X-ALT-DESC;FMTTYPE=text/html:The Fullerton Chamber of Commerce will host a&nbsp\;<span style="line-height: 20.7999992370605px\;">Basic Sales &amp\; Tax</span>&nbsp\;workshop presented by the California State&nbsp\;Board of Equalization. Topics will include:\n\n<ul>\n	<li>Basic Sales &amp\; Use Tax Law</li>\n	<li>Avoiding Common Mistakes</li>\n	<li>Tax Services Available from BOE</li>\n	<li>Locating Forms &amp\; Publications</li>\n	<li>Obtaining Sales Permit</li>\n	<li>Exemptions &amp\; Deductions</li>\n	<li>Taxes on Food</li>\n	<li>Labor &amp\; Installation</li>\n	<li>Sales to Government</li>\n	<li>Interstate &amp\; Foreign Commerce</li>\n	<li>Non-Profits</li>\n	<li>Tax Payers&rsquo\; Rights</li>\n</ul>\nOpen to the public\, with advanced reservation.
LOCATION:Fullerton Chamber of Commerce 444 N. Harbor Blvd.\, Suite 200\, Fullerton
UID:e.887.10381
SEQUENCE:3
DTSTAMP:20260424T224941Z
URL:https://nocchamber-gzcms.preview.gochambermaster.com/events/details/board-of-equalization-basic-sales-use-tax-workshop-10381
END:VEVENT

END:VCALENDAR
