BEGIN:VCALENDAR
VERSION:2.0
PRODID:-//ChamberMaster//Event Calendar 2.0//EN
METHOD:PUBLISH
X-PUBLISHED-TTL:P3D
REFRESH-INTERVAL:P3D
CALSCALE:GREGORIAN
BEGIN:VEVENT
DTSTART:20160625T160000Z
DTEND:20160625T200000Z
X-MICROSOFT-CDO-ALLDAYEVENT:FALSE
SUMMARY:Bank of the West Community Shred Day
DESCRIPTION:Bank of the West  is hosting a free community shred day. Bring unwanted personal documents for complimentary shredding* and disposal at our Brea Branch located at 311 S. State College Blvd. Representatives from Bank of the West will be on-site to offer information on Wealth Management\, Mortgages and protecting yourself against identity theft.\n\n\n\n *Document shredding limited to 50 pounds per household\, please.
X-ALT-DESC;FMTTYPE=text/html:Bank of the West&nbsp\; is hosting a free community shred day. Bring unwanted personal documents for complimentary shredding* and disposal at our Brea Branch located at 311 S. State College Blvd. Representatives from Bank of the West will be on-site to offer information on Wealth Management\, Mortgages and protecting yourself against identity theft.<br />\n<br />\n&nbsp\;*Document shredding limited to 50 pounds per household\, please.<br />\n&nbsp\;
LOCATION:Brea Branch 311 S. State College Blvd. Brea\, CA 92821
UID:e.887.14507
SEQUENCE:3
DTSTAMP:20260423T081540Z
URL:https://nocchamber-gzcms.preview.gochambermaster.com/events/details/bank-of-the-west-community-shred-day-14507
END:VEVENT

END:VCALENDAR
