BEGIN:VCALENDAR
VERSION:2.0
PRODID:-//ChamberMaster//Event Calendar 2.0//EN
METHOD:PUBLISH
X-PUBLISHED-TTL:P3D
REFRESH-INTERVAL:P3D
CALSCALE:GREGORIAN
BEGIN:VEVENT
DTSTART:20171004T020000Z
DTEND:20171004T030000Z
X-MICROSOFT-CDO-ALLDAYEVENT:FALSE
SUMMARY:Balancing Your Hormones with Bioidentical Hormone Replacement Therapy
DESCRIPTION:Do you suffer from mood swings\, fatigue\, depression\, weight gain\, or low libido? Think you're just getting older? Think again...\n\nDiscover how hormone balance issues affect you at this FREE seminar presented by Dimpi Patel\, PharmD.\n\nOn Tuesday\, October 3\, 2017\, at 7:00 pm you'll learn:\n\n\n	Why one-size-fits-all is not the best approach to solving your menopausal problems\, and what you can do about it.\n	How to control hormonal irregularities and associated symptoms by balancing your hormones.\n	About the hormone link to some depressions and why anti-depressants may not be the complete solution.\n	What Dr. Johnathon Wright\, oftentimes called the Doctor's Doctor\, states regarding the importance of proper hormone replacement should really be done for greatest effect.\n	How hormones can be tested and which option may be preferable for your situation.\n	And much\, much more\, all supported by medical science!\n\n\nThe seminar is FREE\, but seating is limited. Pre-registration is required.\n\nTo reserve your spot now\, call: (714) 515-1530.\n\nThe seminar will be held at:\n\nCentral Drugs Compounding Pharmacy\n\n1955 Sunny Crest Drive\, Suite #100\n\nFullerton\, CA 92835\n\n\n\n\nFree parking in front of store Tues\, 10/3 at 7pm at our Fullerton pharmacy. Learn how hormonal imbalance can be affecting you!\n\nhttp://icont.ac/3S9hu
X-ALT-DESC;FMTTYPE=text/html:<p>Do you suffer from mood swings\, fatigue\, depression\, weight gain\, or low libido? Think you&#39\;re just getting older? Think again...</p>\n\n<p>Discover how hormone balance issues affect you at this&nbsp\;FREE&nbsp\;seminar presented by Dimpi Patel\, PharmD.</p>\n\n<p>On&nbsp\;<strong>Tuesday\, October 3\, 2017</strong>\, at 7:00 pm&nbsp\;you&rsquo\;ll learn:</p>\n\n<ul>\n	<li>Why one-size-fits-all is not the best approach to solving your menopausal problems\, and what you can do about it.</li>\n	<li>How to control hormonal irregularities and associated symptoms by balancing your hormones.</li>\n	<li>About the hormone link to some depressions and why anti-depressants may not be the complete solution.</li>\n	<li>What Dr. Johnathon Wright\, oftentimes called the Doctor&#39\;s Doctor\, states regarding the importance of proper hormone replacement should really be done for greatest effect.</li>\n	<li>How hormones can be tested and which option may be preferable for your situation.</li>\n	<li>And much\, much more\, all supported by medical science!</li>\n</ul>\n\n<p>The seminar is&nbsp\;FREE\, but seating is limited. Pre-registration is required.<br />\nTo reserve your spot now\, call:&nbsp\;(714) 515-1530.</p>\n\n<p>The seminar will be held at:</p>\n\n<p>Central Drugs Compounding Pharmacy<br />\n1955 Sunny Crest Drive\, Suite #100<br />\nFullerton\, CA 92835</p>\n\n<div>\n<div>\n<div>\n<p>Free parking in front of store&nbsp\;Tues\, 10/3 at 7pm at our Fullerton pharmacy. Learn how hormonal imbalance can be affecting you!<br />\n<a href="http://icont.ac/3S9hu" rel="noopener" sf="" target="_blank">http://icont.ac/3S9hu</a></p>\n</div>\n</div>\n</div>\n
LOCATION:Central Drugs in Fullerton 1955 Sunny Crest Drive #100 Fullerton\, CA 92835
UID:e.887.17365
SEQUENCE:3
DTSTAMP:20260420T214150Z
URL:https://nocchamber-gzcms.preview.gochambermaster.com/events/details/balancing-your-hormones-with-bioidentical-hormone-replacement-therapy-17365
END:VEVENT

END:VCALENDAR
