BEGIN:VCALENDAR
VERSION:2.0
PRODID:-//ChamberMaster//Event Calendar 2.0//EN
METHOD:PUBLISH
X-PUBLISHED-TTL:P3D
REFRESH-INTERVAL:P3D
CALSCALE:GREGORIAN
BEGIN:VEVENT
DTSTART:20171015T020000Z
DTEND:20171015T040000Z
X-MICROSOFT-CDO-ALLDAYEVENT:FALSE
SUMMARY:Autumn Nights Under the Stars Presents Savor!
DESCRIPTION:Autumn Nights Under the Stars Presents Savor!\n\nEnjoy this great fall weather with an evening of music at The Plaza with Savor: A Tribute to Santana
X-ALT-DESC;FMTTYPE=text/html:<h4>Autumn Nights Under the Stars Presents Savor!</h4>\n\n<p>Enjoy this great fall weather with an evening of music at The Plaza with Savor: A Tribute to Santana</p>\n
LOCATION:At The Plaza at Ehlers Event Center 8150 Knott Ave. Buena Park\, CA 90620
UID:e.887.17377
SEQUENCE:3
DTSTAMP:20260421T003306Z
URL:https://nocchamber-gzcms.preview.gochambermaster.com/events/details/autumn-nights-under-the-stars-presents-savor-17377
END:VEVENT

END:VCALENDAR
