BEGIN:VCALENDAR
VERSION:2.0
PRODID:-//ChamberMaster//Event Calendar 2.0//EN
METHOD:PUBLISH
X-PUBLISHED-TTL:P3D
REFRESH-INTERVAL:P3D
CALSCALE:GREGORIAN
BEGIN:VEVENT
DTSTART:20161007T160000Z
DTEND:20161007T200000Z
X-MICROSOFT-CDO-ALLDAYEVENT:FALSE
SUMMARY:Assemblywoman Young Kim - Small Business Contracting Seminar and Certification Workshop
DESCRIPTION:Government agencies are always looking for quality businesses to help them meet their needs in various state and local sites\, but the contracting process can be confusing. To take the mystery out of the process\, there will be a Small Business Contracting Seminar and Certification Workshop to give local companies the tools they need to do business with state and local governments.\n\n \n\nThe seminar includes a panel of government representatives who will discuss contracting opportunities offered by their corresponding agencies. The event will conclude with an optional certification workshop where a representative from the California Department of General Services will help interested participants complete the application process to be a certified state vendor (bring your own device).\n\n \n\nA business certification workshop will be held from 11:00 a.m. - 1:00 p.m. and will be presented by the California Department of General Services.\n\n\n\nPlease bring one of the following to participate in the certification workshop:\n\nLAPTOP USERS: Internet Explorer 10\, Chrome 21\, Firefox 11\, Safari version 5 (or a higher version).\n\nMOBILE USERS: Safari ios7\, Chrome Android (or higher version)\n\nFREE parking will be provided for attendees.
X-ALT-DESC;FMTTYPE=text/html:Government agencies are always looking for quality businesses to help them meet their&nbsp\;needs in various state and local sites\, but the contracting process can be confusing. To&nbsp\;take the mystery out of the process\, there will be a Small Business Contracting Seminar and&nbsp\;Certification Workshop to give local companies the tools they need to do business with state&nbsp\;and local governments.<br />\n&nbsp\;<br />\nThe seminar includes a panel of government representatives who will discuss contracting&nbsp\;opportunities offered by their corresponding agencies. The event will conclude with an&nbsp\;optional certification workshop where a representative from the California Department of&nbsp\;General Services will help interested participants complete the application process to be a&nbsp\;certified state vendor (bring your own device).<br />\n&nbsp\;<br />\nA business certification workshop will be held from 11:00 a.m. - 1:00 p.m.&nbsp\;and will be presented by the California Department of General Services.<br />\n<br />\nPlease bring one of the following to participate in the certification workshop:<br />\nLAPTOP USERS: Internet Explorer 10\, Chrome 21\, Firefox 11\, Safari version 5 (or a higher version).<br />\nMOBILE USERS: Safari ios7\, Chrome Android (or higher version)<br />\nFREE parking will be provided for attendees.
LOCATION:CSU Fullerton - Titan Student Union 800 N. State College Blvd. Fullerton\, CA 92831
UID:e.887.14849
SEQUENCE:3
DTSTAMP:20260422T115711Z
URL:https://nocchamber-gzcms.preview.gochambermaster.com/events/details/assemblywoman-young-kim-small-business-contracting-seminar-and-certification-workshop-14849
END:VEVENT

END:VCALENDAR
