BEGIN:VCALENDAR
VERSION:2.0
PRODID:-//ChamberMaster//Event Calendar 2.0//EN
METHOD:PUBLISH
X-PUBLISHED-TTL:P3D
REFRESH-INTERVAL:P3D
CALSCALE:GREGORIAN
BEGIN:VEVENT
DTSTART:20140809T030000Z
DTEND:20140809T050000Z
X-MICROSOFT-CDO-ALLDAYEVENT:FALSE
SUMMARY:Assemblywoman Quirk-Silva State of the Economy & Forecast
DESCRIPTION:Assemblywoman Sharon Quirk-Silva will be holding a State of the Economy & Forecast Briefing with California State Controller John Chiang on Friday\, August 8 at 8 a.m. They look forward to discussing: job creation in the new economy\, statewide fiscal issues\, and business development in our local economy. RSVP's are required by August 1\, please call 714-562-7272. Continental breakfast and coffee provided.
X-ALT-DESC;FMTTYPE=text/html:Assemblywoman Sharon Quirk-Silva will be holding a State of the Economy &amp\; Forecast Briefing with California State Controller John Chiang on Friday\, August 8 at 8 a.m. They look forward to discussing: job creation in the new economy\, statewide fiscal issues\, and business development in our local economy. RSVP&#39\;s are required by August 1\, please call 714-562-7272. Continental breakfast and coffee provided.
LOCATION:CSU Fullerton Titan Student Center\, 800 N. State College Blvd.\, Fullerton
UID:e.887.8873
SEQUENCE:3
DTSTAMP:20260425T105226Z
URL:https://nocchamber-gzcms.preview.gochambermaster.com/events/details/assemblywoman-quirk-silva-state-of-the-economy-forecast-8873
END:VEVENT

END:VCALENDAR
