BEGIN:VCALENDAR
VERSION:2.0
PRODID:-//ChamberMaster//Event Calendar 2.0//EN
METHOD:PUBLISH
X-PUBLISHED-TTL:P3D
REFRESH-INTERVAL:P3D
CALSCALE:GREGORIAN
BEGIN:VEVENT
DTSTART:20161007T170000Z
DTEND:20161008T050000Z
X-MICROSOFT-CDO-ALLDAYEVENT:FALSE
SUMMARY:Arirang Festival of Orange County
DESCRIPTION:Celebrate culture and heritage through lively song\, dance and food at the 32nd Arirang Festival\, Fri. though Sat.\, Oct. 7-9\, 2016 from 10:00 a.m. to 10:00 p.m. at Buena Park City Hall\, 6650 Beach Blvd.\n\n \n\nThis international event features expressive activities and food from Korean\, Mexican\, Filipino\, Chinese\, and Vietnamese cultures. Experience the open air market and food court\, music and dance performances\, senior and youth talent shows\, traditional Korean wrestling\, contests\, and opportunity drawings at the opening and closing ceremonies.\n\n \n\nThe Festival's beginnings date back to 1981 when it was known as Korea Day. The name later changed to the Orange County Korean Festival. The event took place in Garden Grove\, but moved to Buena Park in 2013 with a new name   Arirang Festival   to reflect the event's participating cultures.\n\n \n\nParking is available at The Source parking structure on the NE corner of Orangethorpe Ave. and Beach Blvd. Limited handicap parking and will be west-facing on Pinchot Ct.\n\n \n\nFor more information\, please visit www.ArirangOC.com \, or call Aaron France\, Buena Park Assistant to the City Manager\, at (714) 562-3554.
X-ALT-DESC;FMTTYPE=text/html:Celebrate culture and heritage through lively song\, dance and food at the 32nd&nbsp\;Arirang Festival\, Fri. though Sat.\,&nbsp\;Oct. 7-9\, 2016 from 10:00 a.m. to 10:00 p.m. at Buena Park City Hall\, 6650 Beach Blvd.<br />\n&nbsp\;<br />\nThis international event features expressive activities and food from Korean\, Mexican\, Filipino\, Chinese\, and Vietnamese cultures. Experience the open air market and food court\, music and dance performances\, senior and youth talent shows\, traditional Korean wrestling\, contests\, and opportunity drawings at the opening and closing ceremonies.<br />\n&nbsp\;<br />\nThe Festival&rsquo\;s beginnings date back to 1981 when it was known as Korea Day. The name later changed to the Orange County Korean Festival. The event took place in Garden Grove\, but moved to Buena Park in 2013 with a new name &ndash\; Arirang Festival &ndash\; to reflect the event&rsquo\;s participating cultures.<br />\n&nbsp\;<br />\nParking is available at The Source parking structure on the NE corner of Orangethorpe Ave. and Beach Blvd. Limited handicap parking and will be west-facing on Pinchot Ct.<br />\n&nbsp\;<br />\nFor more information\, please visit <a href="http://www.arirangoc.com" target="_blank">www.ArirangOC.com</a> \, or call Aaron France\, Buena Park Assistant to the City Manager\, at (714) 562-3554.
LOCATION:Buena Park City Hall 6650 Beach Blvd. Buena Park\, CA 90621
UID:e.887.14871
SEQUENCE:3
DTSTAMP:20260422T064915Z
URL:https://nocchamber-gzcms.preview.gochambermaster.com/events/details/arirang-festival-of-orange-county-14871
END:VEVENT

END:VCALENDAR
