BEGIN:VCALENDAR
VERSION:2.0
PRODID:-//ChamberMaster//Event Calendar 2.0//EN
METHOD:PUBLISH
X-PUBLISHED-TTL:P3D
REFRESH-INTERVAL:P3D
CALSCALE:GREGORIAN
BEGIN:VEVENT
DTSTART:20180419T000000Z
DTEND:20180419T013000Z
X-MICROSOFT-CDO-ALLDAYEVENT:FALSE
SUMMARY:After 5 Buena Park with Mayor Vaughn
DESCRIPTION:After 5 Buena Park is an opportunity for you to network with local business leaders and hear from Mayor Virginia Vaughn on what's happening in our community. Join us for "After 5 Buena Park"!
X-ALT-DESC;FMTTYPE=text/html:After 5 Buena Park is an opportunity for you to network with local business leaders and hear from Mayor Virginia Vaughn on what&#39\;s happening in our community. Join us for &quot\;After 5 Buena Park&quot\;!<br />\n&nbsp\;
LOCATION:Aburi Restaurant 8308 On The Mall #217 Buena Park\, CA 90620
UID:e.887.21274
SEQUENCE:3
DTSTAMP:20260422T015004Z
URL:https://nocchamber-gzcms.preview.gochambermaster.com/events/details/after-5-buena-park-with-mayor-vaughn-21274
END:VEVENT

END:VCALENDAR
