BEGIN:VCALENDAR
VERSION:2.0
PRODID:-//ChamberMaster//Event Calendar 2.0//EN
METHOD:PUBLISH
X-PUBLISHED-TTL:P3D
REFRESH-INTERVAL:P3D
CALSCALE:GREGORIAN
BEGIN:VEVENT
DTSTART:20180424T230000Z
DTEND:20180425T010000Z
X-MICROSOFT-CDO-ALLDAYEVENT:FALSE
SUMMARY:3RD Annual Steward of Place Internship & Research Expo
DESCRIPTION:Expo Featuring internship and research projects conducted in the garden by CSUF students. The Arboretum uses this event as an opportunity to close the bridge between the university and the community by exposing student engagement in the garden.
X-ALT-DESC;FMTTYPE=text/html:Expo Featuring internship and research projects conducted in the garden by CSUF students. The Arboretum uses this event as an opportunity to close the bridge between the university and the community by exposing student engagement in the garden.
LOCATION:Fullerton Arboretum Bacon Pavillion Deck 1900 Associated Road (at Yorba Linda Blvd.) Fullerton\, Ca. 92831
UID:e.887.17517
SEQUENCE:3
DTSTAMP:20260421T223043Z
URL:https://nocchamber-gzcms.preview.gochambermaster.com/events/details/3rd-annual-steward-of-place-internship-research-expo-17517
END:VEVENT

END:VCALENDAR
