BEGIN:VCALENDAR
VERSION:2.0
PRODID:-//ChamberMaster//Event Calendar 2.0//EN
METHOD:PUBLISH
X-PUBLISHED-TTL:P3D
REFRESH-INTERVAL:P3D
CALSCALE:GREGORIAN
BEGIN:VEVENT
DTSTART:20161014T003000Z
DTEND:20161014T030000Z
X-MICROSOFT-CDO-ALLDAYEVENT:FALSE
SUMMARY:2016 Howloween Costume Cocktail Pawty
DESCRIPTION:Howloween Costume Cocktail Pawty is a dog friendly event raising funds during Breast Cancer Awareness Month for the YWCANOC Neighborhood Link to Breast Cancer Prevention Program. This program helps over 4\,000 low-income\, medically underserved women living in Orange County.\n\n\n\nTickets include hors d'oeuvres and wine for Boos (Human Guests)\, plus Puptinis for Barks (Dog Guests)\, a Trick or Treat experience for your pet and a photo booth\, if you dare. There will also be a no-host bar and a Howloween Costume Competition with prizes.\n\n\n\nOur M.C. is W. Bruce Cameron\, author of A Dog's Purpose\, the book has been made into a movie\, to be released in January 2017.\n\n\n\nHowloween activities include:\n\n    Dog Trainer/Tricks/Obstacle Course\n\n   Costume Competition with prizes for Best Costumes: Funniest\, Spookiest\, Mini Me (lookalike)\, and Best Squad.\n\n   Pet Psychic\n\n   Dog Photography\n\n   Networking with a dog freindly community\n\n \n\nMore information\n\n  Socialized/vaccinated dogs only\, on a leash at all times\, are welcomed.\n\n  Self Parking Free\; Valet Parking $10\n\n  Attendees are encouraged to bring their pooch\, although this is not mandatory.
X-ALT-DESC;FMTTYPE=text/html:Howloween Costume Cocktail Pawty is a dog friendly event raising funds during Breast Cancer Awareness Month for the YWCANOC Neighborhood Link to Breast Cancer Prevention Program. This program helps over 4\,000 low-income\, medically underserved women living in Orange County.<br />\n<br />\nTickets include hors d&#39\;oeuvres and wine for Boos (Human Guests)\, plus Puptinis for Barks (Dog Guests)\, a Trick or Treat experience for your pet and a photo booth\, if you dare. There will also be a no-host bar and a Howloween Costume Competition with prizes.<br />\n<br />\nOur M.C. is W. Bruce Cameron\, author of A Dog&#39\;s Purpose\, the book has been made into a movie\, to be released in January 2017.<br />\n<br />\nHowloween activities include:<br />\n&bull\; &nbsp\; Dog Trainer/Tricks/Obstacle Course<br />\n&bull\; &nbsp\;Costume Competition with prizes for Best Costumes: Funniest\, Spookiest\, Mini Me (lookalike)\, and Best Squad.<br />\n&bull\; &nbsp\;Pet Psychic<br />\n&bull\; &nbsp\;Dog Photography<br />\n&bull\; &nbsp\;Networking with a dog freindly community<br />\n&nbsp\;<br />\nMore information<br />\n&bull\; Socialized/vaccinated dogs only\, on a leash at all times\, are welcomed.<br />\n&bull\;&nbsp\;Self Parking Free\; Valet Parking $10<br />\n&bull\; Attendees are encouraged to bring their pooch\, although this is not mandatory.
LOCATION:Sheraton Park Hotel at the Anaheim Resort 1855 South Harbor Boulevard Anaheim\, CA 92802
UID:e.887.14850
SEQUENCE:3
DTSTAMP:20260422T115707Z
URL:https://nocchamber-gzcms.preview.gochambermaster.com/events/details/2016-howloween-costume-cocktail-pawty-14850
END:VEVENT

END:VCALENDAR
